BEGIN:VCALENDAR
VERSION:2.0
PRODID:-//ChamberMaster//Event Calendar 2.0//EN
METHOD:PUBLISH
X-PUBLISHED-TTL:P3D
REFRESH-INTERVAL:P3D
CALSCALE:GREGORIAN
BEGIN:VEVENT
DTSTART;VALUE=DATE:20110810
DTEND;VALUE=DATE:20110811
TRANSP:TRANSPARENT
X-MICROSOFT-CDO-ALLDAYEVENT:TRUE
SUMMARY:Teddy Bear Clinic
DESCRIPTION:Volunteer health professionals from event sponsor Portsmouth Regional Hospital will be on hand with museum staff to register animals\, issue ID bracelets\, perform health check-ups\, share information about healthy eating and exercise\, and conduct minor surgery on furry friends in need of repair. This event is designed to not only be fun\, but also help children who may be afraid of visiting the doctor. Children are able to play the role of parents as they take their stuffed animal through each step of the clinic and will receive a certificate of good health at the end of their appointment.\n\n \n\nA tea party for children and their "guests" will follow the Teddy Bear Clinic from 12-12:30 pm with organic milk and cookies provided by Stonyfield Farm and fresh fruit generously donated by Fiddlehead Farms Marketplace.
X-ALT-DESC;FMTTYPE=text/html:Volunteer health professionals from event sponsor Portsmouth Regional Hospital will be on hand with museum staff to register animals\, issue ID bracelets\, perform health check-ups\, share information about healthy eating and exercise\, and conduct minor surgery on furry friends in need of repair. This event is designed to not only be fun\, but also help children who may be afraid of visiting the doctor. Children are able to play the role of parents as they take their stuffed animal through each step of the clinic and will receive a certificate of good health at the end of their appointment.<br />\n&nbsp\;<br />\nA tea party for children and their &ldquo\;guests&rdquo\; will follow the Teddy Bear Clinic from 12-12:30 pm with organic milk and cookies provided by Stonyfield Farm and fresh fruit generously donated by Fiddlehead Farms Marketplace.<br />\n&nbsp\;<br />\n
LOCATION:Teddy Bear Clinic at the Children's Museum of New Hampshire 6 Washington Street Dover NH 03820
UID:e.1189.2088
SEQUENCE:3
DTSTAMP:20260420T001740Z
URL:https://business.newburyportchamber.org/events/details/teddy-bear-clinic-08-10-2011-2088
END:VEVENT

END:VCALENDAR
