BEGIN:VCALENDAR
VERSION:2.0
PRODID:-//ChamberMaster//Event Calendar 2.0//EN
METHOD:PUBLISH
X-PUBLISHED-TTL:P3D
REFRESH-INTERVAL:P3D
CALSCALE:GREGORIAN
BEGIN:VEVENT
DTSTART:20110814T180000Z
DTEND:20110814T200000Z
X-MICROSOFT-CDO-ALLDAYEVENT:FALSE
SUMMARY:Tarbone
DESCRIPTION:see website maudslayartscenter.org
X-ALT-DESC;FMTTYPE=text/html:see website maudslayartscenter.org
LOCATION:Maudslay State Park 95 Curzon Mills Rd. Newburyport
UID:e.1189.1996
SEQUENCE:3
DTSTAMP:20260419T223218Z
URL:https://business.newburyportchamber.org/events/details/tarbone-08-14-2011-1996
END:VEVENT

END:VCALENDAR
