BEGIN:VCALENDAR
VERSION:2.0
PRODID:-//ChamberMaster//Event Calendar 2.0//EN
METHOD:PUBLISH
X-PUBLISHED-TTL:P3D
REFRESH-INTERVAL:P3D
CALSCALE:GREGORIAN
BEGIN:VEVENT
DTSTART:20120129T160000Z
DTEND:20120129T200000Z
X-MICROSOFT-CDO-ALLDAYEVENT:FALSE
SUMMARY:Super Hunger Brunch
DESCRIPTION:Join us on Sunday\, January 29th to support the Greater Boston Food Bank's Super Hunger Brunch! We will be joining in on this annual event alongside some of the best restaurants in Boston and beyond\, with the proceeds from every brunch meal going back to the Greater Boston Food Bank. We're offering a special pre-fixe menu for $25\, so pre-purchase your brunch certificates online at www.gbfb.org or call Ten Center to make your reservations today.
X-ALT-DESC;FMTTYPE=text/html:Join us on Sunday\, January 29th to support the Greater Boston Food Bank&rsquo\;s Super Hunger Brunch! We will be joining in on this annual event alongside some of the best restaurants in Boston and beyond\, with the proceeds from every brunch meal going back to the Greater Boston Food Bank. We&rsquo\;re offering a special pre-fixe menu for $25\, so pre-purchase your brunch certificates online at www.gbfb.org or call Ten Center to make your reservations today.
LOCATION:Ten Center Street Restaurant 10 Center St Newburyport\, MA
UID:e.1189.2536
SEQUENCE:3
DTSTAMP:20260419T140749Z
URL:https://business.newburyportchamber.org/events/details/super-hunger-brunch-01-29-2012-2536
END:VEVENT

END:VCALENDAR
