BEGIN:VCALENDAR
VERSION:2.0
PRODID:-//ChamberMaster//Event Calendar 2.0//EN
METHOD:PUBLISH
X-PUBLISHED-TTL:P3D
REFRESH-INTERVAL:P3D
CALSCALE:GREGORIAN
BEGIN:VEVENT
DTSTART:20120128T140000Z
DTEND:20120128T170000Z
X-MICROSOFT-CDO-ALLDAYEVENT:FALSE
SUMMARY:Super Hunger Brunch
DESCRIPTION:Join us on Saturday\, January 28th between 9am-12noon to support the Greater Boston Food Bank's Super Hunger Brunch! We will be joining in on this annual event alongside some of the best restaurants in Boston and beyond\, with the proceeds from every brunch meal going back to the Greater Boston Food Bank. We're offering a special pre-fixe menu for $25\, so pre-purchase your brunch certificates online at www.gbfb.org or call Michael's to make your reservation today!
X-ALT-DESC;FMTTYPE=text/html:Join us on Saturday\, January 28th between 9am-12noon to support the Greater Boston Food Bank&rsquo\;s Super Hunger Brunch! We will be joining in on this annual event alongside some of the best restaurants in Boston and beyond\, with the proceeds from every brunch meal going back to the Greater Boston Food Bank. We&rsquo\;re offering a special pre-fixe menu for $25\, so pre-purchase your brunch certificates online at www.gbfb.org or call Michael&rsquo\;s to make your reservation today!
LOCATION:Michael's Harborside One Tournament Wharf Newburyport\, MA
UID:e.1189.2535
SEQUENCE:3
DTSTAMP:20260419T140813Z
URL:https://business.newburyportchamber.org/events/details/super-hunger-brunch-01-28-2012-2535
END:VEVENT

END:VCALENDAR
