BEGIN:VCALENDAR
VERSION:2.0
PRODID:-//ChamberMaster//Event Calendar 2.0//EN
METHOD:PUBLISH
X-PUBLISHED-TTL:P3D
REFRESH-INTERVAL:P3D
CALSCALE:GREGORIAN
BEGIN:VEVENT
DTSTART:20210619T220000Z
DTEND:20210620T000000Z
X-MICROSOFT-CDO-ALLDAYEVENT:FALSE
SUMMARY:Sunset Picnic in The Garden: Garden Music
DESCRIPTION:A selection of songs and arias that belong in the garden with mezzo-soprano Kathryn Tolley and other TITO friends and artists. Relax in\, or wander about\, the Sedgwick Gardens while enjoying a program of songs celebrating the natural world by Grieg\, Mozart\, Handel\, and Hahn. \n\n\n\nPre-registered individuals or groups will be given a socially distant picnic spot in the gardens to spread out their blankets and enjoy the evening. Please BYO reusable water bottles to reduce waste. Picnic blankets\, lawn chairs and food are encouraged!
X-ALT-DESC;FMTTYPE=text/html:A selection of songs and arias that belong in the garden with mezzo-soprano Kathryn Tolley and other TITO friends and artists. Relax in\, or wander about\, the Sedgwick Gardens while enjoying a program of songs celebrating the natural world by Grieg\, Mozart\, Handel\, and Hahn.&nbsp\;<br />\n<br />\nPre-registered individuals or groups will be given a socially distant picnic spot in the gardens to spread out their blankets and enjoy the evening. Please BYO reusable water bottles to reduce waste. Picnic blankets\, lawn chairs and food are encouraged!
LOCATION:Long Hill\, 572 Essex Street\, Beverly\, MA
UID:e.1189.83298
SEQUENCE:3
DTSTAMP:20260422T103406Z
URL:https://business.newburyportchamber.org/events/details/sunset-picnic-in-the-garden-garden-music-83298
END:VEVENT

END:VCALENDAR
