BEGIN:VCALENDAR
VERSION:2.0
PRODID:-//ChamberMaster//Event Calendar 2.0//EN
METHOD:PUBLISH
X-PUBLISHED-TTL:P3D
REFRESH-INTERVAL:P3D
CALSCALE:GREGORIAN
BEGIN:VEVENT
DTSTART:20120226T170000Z
DTEND:20120226T200000Z
X-MICROSOFT-CDO-ALLDAYEVENT:FALSE
SUMMARY:Sunday Music Series at Mill 77
DESCRIPTION:Join Mill 77 Trading Company as we embark on a musical journey to bring the absolute best of New England musicians to you right here in Amesbury\, MA.\n\n\n\nThis Sunday\, February 26th\, join us for the amazingly spirited duo of Lee Hawkins & Bob Peabody. \n\n \n\nGrab a cup of coffee while you browse our 10\,000 square foot showroom filled with an array of home furnishings and decor\, antiques\, art\, fine clothing\, collectibles\, porcelains\, glass\, jewelry\, photography\, pottery\, vintage goods\, textiles and so much more!
X-ALT-DESC;FMTTYPE=text/html:Join Mill 77 Trading Company as we embark on a musical journey to bring the absolute best of New England musicians to you right here in Amesbury\, MA.<br />\n<br />\nThis Sunday\, February 26th\, join us for the amazingly spirited duo of Lee Hawkins &amp\; Bob Peabody.&nbsp\;<br />\n&nbsp\;<br />\nGrab a cup of coffee while you browse our 10\,000 square foot showroom filled with an array of home furnishings and decor\, antiques\, art\, fine clothing\, collectibles\, porcelains\, glass\, jewelry\, photography\, pottery\, vintage goods\, textiles and so much more! 
LOCATION:Mill 77 Trading Company 77 Elm Street Amesbury\, MA 01913
UID:e.1189.2956
SEQUENCE:3
DTSTAMP:20260419T124900Z
URL:https://business.newburyportchamber.org/events/details/sunday-music-series-at-mill-77-02-26-2012-2956
END:VEVENT

END:VCALENDAR
