BEGIN:VCALENDAR
VERSION:2.0
PRODID:-//ChamberMaster//Event Calendar 2.0//EN
METHOD:PUBLISH
X-PUBLISHED-TTL:P3D
REFRESH-INTERVAL:P3D
CALSCALE:GREGORIAN
BEGIN:VEVENT
DTSTART:20090508T040000Z
DTEND:20090508T040000Z
X-MICROSOFT-CDO-ALLDAYEVENT:FALSE
SUMMARY:Spring Invitation Nights 2009
DESCRIPTION:Newburyport's Spring Invitation Nights!Friday Evenings\, May 1st & May 8th6:00 - 9:00 pmDowntown Newburyport and The Tannery Join us for Newburyport’s Spring Invitation Nights and jump start the spring season in style! Enjoy merchant hospitality\, light refreshments and an opportunity to find a perfect gift for Mom\, your favorite graduate\, or yourself! Beat the recession blues!  Enter to win a Newburyport Spring "Stimulus Package" worth $1\,000\, $500 or $200!  Packages include a collection of $50 gift certificates to downtown businesses.  Visit participating businesses marked with a pink ribbon anytime during May 1 through May 8! For more information\, call the Chamber at 978-462-6680 or visit www.newburyportchamber.org.
X-ALT-DESC;FMTTYPE=text/html:<DIV><DIV><FONT face=Arial><FONT size=2><FONT color=#000000><SPAN style="FONT-SIZE: 11pt\; FONT-FAMILY: Calibri"><DIV><FONT color=#000000><FONT face=Arial><FONT size=2><SPAN style="FONT-SIZE: 11pt\; FONT-FAMILY: Calibri"><P class=MsoNormal style="MARGIN: 0in 0in 0pt"><FONT size=3><?xml:namespace prefix = st1 ns = "urn:schemas-microsoft-com:office:smarttags" /><st1:City><st1:place><SPAN style="FONT-FAMILY: Calibri">Newburyport</SPAN></st1:place></st1:City><SPAN style="FONT-FAMILY: Calibri">'s </SPAN><st1:PersonName><SPAN style="FONT-FAMILY: Calibri">S</SPAN></st1:PersonName><SPAN style="FONT-FAMILY: Calibri">pring Invitation Nights!<?xml:namespace prefix = o ns = "urn:schemas-microsoft-com:office:office" /><o:p></o:p></SPAN></FONT></P><P class=MsoNormal style="MARGIN: 0in 0in 0pt"><SPAN style="FONT-FAMILY: Calibri"><FONT size=3>Friday Evenings\, May 1<SUP>st</SUP> &amp\; May 8<SUP>th</SUP><o:p></o:p></FONT></SPAN></P><P class=MsoNormal style="MARGIN: 0in 0in 0pt"><FONT size=3><st1:time Hour="18" Minute="0"><SPAN style="FONT-FAMILY: Calibri">6:00 - 9:00 pm</SPAN></st1:time><SPAN style="FONT-FAMILY: Calibri"><o:p></o:p></SPAN></FONT></P><P class=MsoNormal style="MARGIN: 0in 0in 0pt"><FONT size=3><SPAN style="FONT-FAMILY: Calibri">Downtown </SPAN><st1:City><st1:place><SPAN style="FONT-FAMILY: Calibri">Newburyport</SPAN></st1:place></st1:City><SPAN style="FONT-FAMILY: Calibri"> and The Tannery<o:p></o:p></SPAN></FONT></P><P class=MsoNormal style="MARGIN: 0in 0in 0pt"><SPAN style="FONT-FAMILY: Calibri"><o:p><FONT size=3>&nbsp\;</FONT></o:p></SPAN></P><P class=MsoNormal style="MARGIN: 0in 0in 0pt"><FONT size=3><SPAN style="FONT-FAMILY: Calibri">Join us for </SPAN><st1:City><st1:place><SPAN style="FONT-FAMILY: Calibri">Newburyport</SPAN></st1:place></st1:City><SPAN style="FONT-FAMILY: Calibri">’s </SPAN><st1:PersonName><SPAN style="FONT-FAMILY: Calibri">S</SPAN></st1:PersonName><SPAN style="FONT-FAMILY: Calibri">pring Invitation Nights and jump start the spring season in style!<o:p></o:p></SPAN></FONT></P><P class=MsoNormal style="MARGIN: 0in 0in 0pt"><SPAN style="FONT-FAMILY: Calibri"><o:p><FONT size=3>&nbsp\;</FONT></o:p></SPAN></P><P class=MsoNormal style="MARGIN: 0in 0in 0pt"><SPAN style="FONT-FAMILY: Calibri"><FONT size=3>Enjoy merchant hospitality\, light refreshments and an opportunity to find a perfect gift for Mom\, your favorite graduate\, or yourself!<o:p></o:p></FONT></SPAN></P><P class=MsoNormal style="MARGIN: 0in 0in 0pt"><SPAN style="FONT-FAMILY: Calibri"><o:p><FONT size=3>&nbsp\;</FONT></o:p></SPAN></P><P class=MsoNormal style="MARGIN: 0in 0in 0pt"><SPAN style="FONT-FAMILY: Calibri"><FONT size=3>Beat the recession blues!<SPAN style="mso-spacerun: yes">&nbsp\; </SPAN></FONT><A name=OLE_LINK1><FONT size=3>Enter to win a Newburyport </FONT></A></SPAN><FONT size=3><st1:PersonName><SPAN style="mso-bookmark: OLE_LINK1"><SPAN style="FONT-FAMILY: Calibri">S</SPAN></SPAN></st1:PersonName><SPAN style="mso-bookmark: OLE_LINK1"><SPAN style="FONT-FAMILY: Calibri">pring "</SPAN></SPAN><st1:PersonName><SPAN style="mso-bookmark: OLE_LINK1"><SPAN style="FONT-FAMILY: Calibri">S</SPAN></SPAN></st1:PersonName><SPAN style="mso-bookmark: OLE_LINK1"><SPAN style="FONT-FAMILY: Calibri">timulus Package" worth $1\,000\, $500 or $200!<SPAN style="mso-spacerun: yes">&nbsp\; </SPAN></SPAN></SPAN><SPAN style="FONT-FAMILY: Calibri">Packages include a collection of $50 gift certificates to downtown businesses.<SPAN style="mso-spacerun: yes">&nbsp\; </SPAN>Visit participating businesses marked with a pink ribbon anytime during May 1 through May 8!<o:p></o:p></SPAN></FONT></P><P class=MsoNormal style="MARGIN: 0in 0in 0pt"><SPAN style="FONT-FAMILY: Calibri"><FONT size=3><SPAN style="mso-spacerun: yes">&nbsp\;</SPAN><o:p></o:p></FONT></SPAN></P><P class=MsoNormal style="MARGIN: 0in 0in 0pt"><FONT size=3><SPAN style="FONT-FAMILY: Calibri">For more information\, c</SPAN><st1:PersonName><SPAN style="FONT-FAMILY: Calibri">all</SPAN></st1:PersonName><SPAN style="FONT-FAMILY: Calibri"> the Chamber at 978-462-6680 or visit www.newburyportchamber.org.</SPAN></FONT></SPAN></FONT></FONT></FONT><FONT face=Arial><FONT size=2><FONT color=#000000><SPAN style="FONT-SIZE: 11pt\; FONT-FAMILY: Calibri"><o:p></P></o:p></SPAN></FONT></FONT></FONT></DIV></SPAN></FONT></FONT></FONT></DIV></DIV>
LOCATION:Downtown & Tannery
UID:e.1189.1144
SEQUENCE:3
DTSTAMP:20260422T005443Z
URL:https://business.newburyportchamber.org/events/details/spring-invitation-nights-2009-05-08-2009-1144
END:VEVENT

END:VCALENDAR
