BEGIN:VCALENDAR
VERSION:2.0
PRODID:-//ChamberMaster//Event Calendar 2.0//EN
METHOD:PUBLISH
X-PUBLISHED-TTL:P3D
REFRESH-INTERVAL:P3D
CALSCALE:GREGORIAN
BEGIN:VEVENT
DTSTART:20100507T040000Z
DTEND:20100507T040000Z
X-MICROSOFT-CDO-ALLDAYEVENT:FALSE
SUMMARY:Spring Invitation Nights
DESCRIPTION:Spring Invitation Nights!Friday Evenings\, May 7 & May 116:00 to 9:00 PMDowntown Newburyport & The Tannery Join us for Newburyport’s annual Spring Invitation Nights and jump start the spring season in style! Enjoy merchant hospitality\, light refreshments and an opportunity to find a perfect gift for Mom\, your favorite graduate\, or yourself. Enter to win the Shop & Dine giveaway! For more information\, call the Chamber at 978-462-6680 or CLICK HERE!
X-ALT-DESC;FMTTYPE=text/html:<DIV><FONT color=#000000 size=2 face=Arial><SPAN style="FONT-FAMILY: Calibri\; FONT-SIZE: 11pt"><P style="MARGIN: 0in 0in 0pt" class=MsoNormal><FONT style="FONT-SIZE: x-small" size=2 face=Arial><SPAN style="FONT-FAMILY: 'Century Gothic'">Spring Invitation Nights!</SPAN><?xml:namespace prefix = o ns = "urn:schemas-microsoft-com:office:office" /><o:p></o:p></FONT></P><P style="MARGIN: 0in 0in 0pt" class=MsoNormal><SPAN style="FONT-FAMILY: 'Century Gothic'"><FONT style="FONT-SIZE: x-small" size=2>Friday Evenings\, May 7 &amp\; May 11</FONT></SPAN></P><P style="MARGIN: 0in 0in 0pt" class=MsoNormal><FONT size=2><?xml:namespace prefix = st1 ns = "urn:schemas-microsoft-com:office:smarttags" /><st1:time Minute="0" Hour="18"><SPAN style="FONT-FAMILY: 'Century Gothic'\; FONT-SIZE: x-small">6:00 to 9:00 PM</SPAN></st1:time></FONT></P><P style="MARGIN: 0in 0in 0pt" class=MsoNormal><FONT style="FONT-FAMILY: 'Century Gothic'\; FONT-SIZE: x-small" size=2>Downtown <st1:City><st1:place>Newburyport</st1:place></st1:City> &amp\; The Tannery<o:p></o:p></FONT></P></SPAN><SPAN style="FONT-FAMILY: Calibri"><P style="MARGIN: 0in 0in 0pt" class=MsoNormal><SPAN style="FONT-FAMILY: 'Century Gothic'\; FONT-SIZE: x-small"><o:p>&nbsp\;</o:p></SPAN></P></SPAN><SPAN style="FONT-FAMILY: Calibri\; FONT-SIZE: 11pt"><P style="MARGIN: 0in 0in 0pt" class=MsoNormal><FONT style="FONT-FAMILY: 'Century Gothic'\; FONT-SIZE: x-small" size=2>Join us for <st1:City><st1:place>Newburyport</st1:place></st1:City>’s annual <st1:PersonName>S</st1:PersonName>pring Invitation Nights and jump start the spring season in style!<o:p></o:p></FONT></P><SPAN style="FONT-FAMILY: Calibri"><P style="MARGIN: 0in 0in 0pt" class=MsoNormal><SPAN style="FONT-FAMILY: 'Century Gothic'\; FONT-SIZE: x-small"><o:p>&nbsp\;</o:p></SPAN></P><P style="MARGIN: 0in 0in 0pt" class=MsoNormal><SPAN style="FONT-FAMILY: 'Century Gothic'\; FONT-SIZE: x-small">Enjoy merchant hospitality\, light refreshments and an opportunity to find a perfect gift for Mom\, your favorite graduate\, or yourself.&nbsp\;Enter to win the Shop &amp\; Dine giveaway!</SPAN></P><P style="MARGIN: 0in 0in 0pt" class=MsoNormal><SPAN style="FONT-FAMILY: 'Century Gothic'\; FONT-SIZE: x-small"></SPAN>&nbsp\;</P><P style="MARGIN: 0in 0in 0pt" class=MsoNormal></SPAN><FONT style="FONT-SIZE: x-small" size=2 face=Arial><SPAN style="FONT-FAMILY: 'Century Gothic'">For more information\, c<st1:PersonName>all</st1:PersonName></SPAN><SPAN style="FONT-FAMILY: 'Century Gothic'"> the Chamber at 978-462-6680 or&nbsp\;<A style="COLOR: blue\; TEXT-DECORATION: underline" title="" dataFld=0:0 href="http://www.newburyportchamber.org/Spring_Invitation.shtml" target=_NewWindow>CLICK HERE</A>!</SPAN></FONT></SPAN></FONT></P></DIV>
LOCATION:Downtown & Tannery
UID:e.1189.1365
SEQUENCE:3
DTSTAMP:20260421T045913Z
URL:https://business.newburyportchamber.org/events/details/spring-invitation-nights-05-07-2010-1365
END:VEVENT

END:VCALENDAR
