BEGIN:VCALENDAR
VERSION:2.0
PRODID:-//ChamberMaster//Event Calendar 2.0//EN
METHOD:PUBLISH
X-PUBLISHED-TTL:P3D
REFRESH-INTERVAL:P3D
CALSCALE:GREGORIAN
BEGIN:VEVENT
DTSTART:20080416T040000Z
DTEND:20080416T040000Z
X-MICROSOFT-CDO-ALLDAYEVENT:FALSE
SUMMARY:Spring Festival Planning Committee Meeting
DESCRIPTION:This Committee will be working on the 2008 Spring Festival to be held on Sunday and Monday\, May 25 & 26.
X-ALT-DESC;FMTTYPE=text/html:<DIV>This Committee will be working on the 2008 Spring Festival to be held on Sunday and Monday\, May 25 &amp\; 26.</DIV>
LOCATION:Chamber Office
UID:e.1189.950
SEQUENCE:3
DTSTAMP:20260424T102341Z
URL:https://business.newburyportchamber.org/events/details/spring-festival-planning-committee-meeting-04-16-2008-950
END:VEVENT

END:VCALENDAR
