BEGIN:VCALENDAR
VERSION:2.0
PRODID:-//ChamberMaster//Event Calendar 2.0//EN
METHOD:PUBLISH
X-PUBLISHED-TTL:P3D
REFRESH-INTERVAL:P3D
CALSCALE:GREGORIAN
BEGIN:VEVENT
DTSTART:20111022T180000Z
DTEND:20111022T180000Z
X-MICROSOFT-CDO-ALLDAYEVENT:FALSE
SUMMARY:Sports Broadcasting 101
DESCRIPTION:
X-ALT-DESC;FMTTYPE=text/html:
LOCATION:PortMedia Studio 3 Graf Road\, Suite 11 Newburyport\, MA
UID:e.1189.2309
SEQUENCE:3
DTSTAMP:20260419T210359Z
URL:https://business.newburyportchamber.org/events/details/sports-broadcasting-101-10-22-2011-2309
END:VEVENT

END:VCALENDAR
