BEGIN:VCALENDAR
VERSION:2.0
PRODID:-//ChamberMaster//Event Calendar 2.0//EN
METHOD:PUBLISH
X-PUBLISHED-TTL:P3D
REFRESH-INTERVAL:P3D
CALSCALE:GREGORIAN
BEGIN:VEVENT
DTSTART:20110728T130000Z
DTEND:20110728T200000Z
X-MICROSOFT-CDO-ALLDAYEVENT:FALSE
SUMMARY:Spiritual Spa Day
DESCRIPTION:Spiritual Spa Day In this peaceful\, natural setting\, explore ways to reduce stress\, restore the soul\, refresh the body and delight the mind. The day's offerings include: gentle movement and breathing\, nature walks\, guided labyrinth meditation\, soul expression through imagery\, contemplative prayer\, delicious food\, and Adelynrood's beautiful gardens. Sign up in advance for spiritual direction. There will be plenty of free time to read\, rest\, journal\, or simply enjoy. Massage and Reiki will be available for an additional fee. Leader: Mary Kitses\, SCHC is a graduate of the Shalem Institute for Spiritual Formation in Washington\, DC. Trained in leading contemplative prayer groups and retreats. Mary also offers both individual and group spiritual direction. Program Fee $100 (includes continental breakfast and lunch) Check-in 8:30 am
X-ALT-DESC;FMTTYPE=text/html:Spiritual Spa Day In this peaceful\, natural setting\, explore ways to reduce stress\, restore the soul\, refresh the body and delight the mind. The day&#39\;s offerings include: gentle movement and breathing\, nature walks\, guided labyrinth meditation\, soul expression through imagery\, contemplative prayer\, delicious food\, and Adelynrood&rsquo\;s beautiful gardens. Sign up in advance for spiritual direction. There will be plenty of free time to read\, rest\, journal\, or simply enjoy. Massage and Reiki will be available for an additional fee. Leader: Mary Kitses\, SCHC is a graduate of the Shalem Institute for Spiritual Formation in Washington\, DC. Trained in leading contemplative prayer groups and retreats. Mary also offers both individual and group spiritual direction. Program Fee $100 (includes continental breakfast and lunch) Check-in 8:30 am
LOCATION:Adelynrood Retreat and Conference Center 46 Elm Street Byfield\, MA 01922
UID:e.1189.1985
SEQUENCE:3
DTSTAMP:20260420T021058Z
URL:https://business.newburyportchamber.org/events/details/spiritual-spa-day-07-28-2011-1985
END:VEVENT

END:VCALENDAR
