BEGIN:VCALENDAR
VERSION:2.0
PRODID:-//ChamberMaster//Event Calendar 2.0//EN
METHOD:PUBLISH
X-PUBLISHED-TTL:P3D
REFRESH-INTERVAL:P3D
CALSCALE:GREGORIAN
BEGIN:VEVENT
DTSTART:20110616T130000Z
DTEND:20110616T200000Z
X-MICROSOFT-CDO-ALLDAYEVENT:FALSE
SUMMARY:Spiritual Spa Day
DESCRIPTION:Spiritual Spa Day In this peaceful\, natural setting\, explore ways to reduce stress\, restore the soul\, refresh the body and delight the mind. The day's offerings include: gentle movement and breathing\, nature walks\, guided labyrinth meditation\, soul expression through imagery\, contemplative prayer\, delicious food\, and Adelynrood's beautiful gardens. Sign up in advance for spiritual direction. There will be plenty of free time to read\, rest\, journal\, or simply enjoy. Massage and Reiki will be available for an additional fee.Leader: Mary Kitses\, SCHC is a graduate of the Shalem Institute forSpiritual Formation in Washington\, DC. Trained in leading contemplative prayer groups and retreats.Mary also offers both individual and group spiritual direction. Program Fee $100 (includes continentalbreakfast and lunch) Check-in 8:30 am
X-ALT-DESC;FMTTYPE=text/html:Spiritual Spa Day In this peaceful\, natural setting\, explore ways to reduce stress\, restore the soul\, refresh the body and delight the mind. The day&#39\;s offerings include: gentle movement and breathing\, nature walks\, guided labyrinth meditation\, soul expression through imagery\, contemplative prayer\, delicious food\, and Adelynrood&rsquo\;s beautiful gardens. Sign up in advance for spiritual direction. There will be plenty of free time to read\, rest\, journal\, or simply enjoy. Massage and Reiki will be available for an additional fee.Leader: Mary Kitses\, SCHC is a graduate of the Shalem Institute forSpiritual Formation in Washington\, DC. Trained in leading contemplative prayer groups and retreats.Mary also offers both individual and group spiritual direction. Program Fee $100 (includes continentalbreakfast and lunch) Check-in 8:30 am
LOCATION:Adelynrood Retreat and Conference Center 46 Elm Street Byfield (978) 462-6721
UID:e.1189.1870
SEQUENCE:3
DTSTAMP:20260420T020014Z
URL:https://business.newburyportchamber.org/events/details/spiritual-spa-day-06-16-2011-1870
END:VEVENT

END:VCALENDAR
