BEGIN:VCALENDAR
VERSION:2.0
PRODID:-//ChamberMaster//Event Calendar 2.0//EN
METHOD:PUBLISH
X-PUBLISHED-TTL:P3D
REFRESH-INTERVAL:P3D
CALSCALE:GREGORIAN
BEGIN:VEVENT
DTSTART:20100929T040000Z
DTEND:20100929T040000Z
X-MICROSOFT-CDO-ALLDAYEVENT:FALSE
SUMMARY:Special Non-Profit Seminar Event
DESCRIPTION:7:30-8:00 AM: Registration and Networking \n8:00-9:45 AM: Program and Q & A  Speed Development\nA 90 minute event\, featuring networking and introductions\, 3 roundtables with participants visiting each table leader for a 20 minute presentation/discussion on a specific development topic. Group Q & A at the conclusion.\nTopics/Discussion Leaders include:\nThe Development Plan – Susan Stendahl\, Director of Development\, Hostelling International USA\, Eastern New England Council.Friend Raising/Donor Cultivation – Jay McGovern\, Chief Development Officer\, Boston MedFlight. Building Rapport with the Local Media – Sonya Vartabedian\, Features Editor\, Daily News of Newburyport. Location: Newburyport Five Cents Savings Bank\n63 State Street\, Newburyport. Lower level conference room.  Free Admission Please RSVP to Ann at the Chamber\naormond@newburyportchamber.org\nor 978-462-6680 x15.
X-ALT-DESC;FMTTYPE=text/html:<SPAN style="FONT-STYLE: italic\; FONT-FAMILY: Arial\; COLOR: blue\; FONT-SIZE: 10pt\; FONT-WEIGHT: bold"><FONT color=#000000><P class=MsoNormal><SPAN style="FONT-FAMILY: Verdana\; FONT-SIZE: 10pt"></SPAN></P><FONT color=#ff0000><SPAN style="FONT-FAMILY: Arial\; COLOR: blue\; FONT-SIZE: 10pt"><P style="MARGIN: 0in 0in 0pt" class=MsoNormal></SPAN></FONT><P style="MARGIN: 0in 0in 0pt" class=MsoNormal><P style="TEXT-ALIGN: justify\; MARGIN: 0in 0in 0pt" class=MsoNormal></P><P class=MsoNormal></P></FONT></SPAN><P style="MARGIN: 0in 0in 0pt" class=MsoNormal><SPAN style="FONT-FAMILY: Arial\; FONT-SIZE: 10pt"><FONT color=#0f0f0f size=3><SPAN style="FONT-FAMILY: Arial\; FONT-SIZE: 10pt">7:30-8:00 AM: Registration and Networking <BR>8:00-9:45 AM: Program and Q &amp\; A </SPAN></FONT></SPAN></P><P style="MARGIN: 0in 0in 0pt" class=MsoNormal><SPAN style="FONT-FAMILY: Arial\; FONT-SIZE: 10pt"><FONT color=#0f0f0f size=3><SPAN style="FONT-FAMILY: Arial\; FONT-SIZE: 10pt"></SPAN></FONT></SPAN>&nbsp\;</P><P style="MARGIN: 0in 0in 0pt" class=MsoNormal><SPAN style="FONT-FAMILY: Arial\; FONT-SIZE: 10pt"><FONT color=#0f0f0f size=3><SPAN style="FONT-FAMILY: Arial\; FONT-SIZE: 10pt"><STRONG>Speed Development<BR></STRONG>A&nbsp\;90 minute event\, featuring networking and introductions\, 3 roundtables with participants visiting each table leader for a 20 minute presentation/discussion on a specific development topic. Group Q &amp\; A at the conclusion.</SPAN></FONT></SPAN></P><SPAN style="FONT-FAMILY: Arial\; FONT-SIZE: 10pt"><FONT size=3><SPAN style="FONT-FAMILY: Arial\; FONT-SIZE: 10pt"><P style="MARGIN: 0in 0in 0pt" class=MsoNormal><BR><FONT color=#0f0f0f><STRONG>Topics/Discussion Leaders include:</STRONG></FONT></P><P style="MARGIN: 0in 0in 0pt" class=MsoNormal><BR><FONT color=#0f0f0f>The Development Plan – Susan Stendahl\, Director of Development\, Hostelling International USA\, Eastern New England Council.</FONT></P><P style="MARGIN: 0in 0in 0pt" class=MsoNormal><FONT color=#0f0f0f>Friend Raising/Donor Cultivation – Jay McGovern\, Chief Development Officer\, Boston MedFlight.</FONT></P><P style="MARGIN: 0in 0in 0pt" class=MsoNormal><FONT color=#0f0f0f></FONT>&nbsp\;</P><P style="MARGIN: 0in 0in 0pt" class=MsoNormal><FONT color=#0f0f0f>Building Rapport with the Local Media – Sonya Vartabedian\, Features Editor\, Daily News of Newburyport.</FONT></P><P style="MARGIN: 0in 0in 0pt" class=MsoNormal><FONT color=#0f0f0f></FONT>&nbsp\;</P><P style="MARGIN: 0in 0in 0pt" class=MsoNormal><FONT color=#0f0f0f><STRONG>Location:</STRONG> Newburyport Five Cents Savings Bank<BR>63 State Street\, Newburyport. Lower level conference room. </FONT></P><P style="MARGIN: 0in 0in 0pt" class=MsoNormal><FONT color=#0f0f0f></FONT>&nbsp\;</P><P style="MARGIN: 0in 0in 0pt" class=MsoNormal><FONT color=#0f0f0f><STRONG>Free Admission</STRONG></FONT></P><P style="MARGIN: 0in 0in 0pt" class=MsoNormal><FONT color=#0f0f0f></FONT>&nbsp\;</P><P style="MARGIN: 0in 0in 0pt" class=MsoNormal><FONT color=#0f0f0f><STRONG>Please RSVP</STRONG> to Ann at the Chamber<BR></FONT><A href="mailto:aormond@newburyportchamber.org"><FONT color=#0f0f0f>aormond@newburyportchamber.org</FONT></A><BR><FONT color=#0f0f0f>or 978-462-6680 x15.</FONT></SPAN></FONT></P></SPAN>
LOCATION:Newburyport Five Cents Savings Bank
UID:e.1189.1629
SEQUENCE:3
DTSTAMP:20260420T175433Z
URL:https://business.newburyportchamber.org/events/details/special-non-profit-seminar-event-09-29-2010-1629
END:VEVENT

END:VCALENDAR
