BEGIN:VCALENDAR
VERSION:2.0
PRODID:-//ChamberMaster//Event Calendar 2.0//EN
METHOD:PUBLISH
X-PUBLISHED-TTL:P3D
REFRESH-INTERVAL:P3D
CALSCALE:GREGORIAN
BEGIN:VEVENT
DTSTART:20110929T213000Z
DTEND:20110930T003000Z
X-MICROSOFT-CDO-ALLDAYEVENT:FALSE
SUMMARY:Social Security Retirement Seminar
DESCRIPTION:Social Security remains a large part of many people's retirement planning. What is new with Social Security? Will it be there in the future? How can we maximize our benefit?\n\n	Please Join Us for a Complimentary Seminar\n\n	Securing Your Retirement: \n\n	Transforming Social Security into a Winning Retirement Strategy\n\n	 \n\n	 \n\n	The event will be held at:\n\n	\n\n	The Mission Oak Grill\n\n	26 Green Street\n\n	Newburyport\, MA 01950\n\n	\n\n	Thursday\, September 29\, 2011\n\n	\n\n	5:30 - 6:30 Reception\, Meet & Greet\n\n	6:30 - 8:30 Presentations\, Q&A\n\n	\n\n	Please RSVP by September 27th\, 2011\n\n	(978) 462-9500 - or email - steve@hugheswmg.com\n\n	\n\n	\n\n	You are invited to bring a friend. Please reserve your seats today\,Space is Limited!
X-ALT-DESC;FMTTYPE=text/html:<h4 style="text-align: center">\n	<span style="color: #000080"><strong>Social Security remains a large part of many people&rsquo\;s retirement planning. What is new with Social Security? Will it be there in the future? How can we maximize our benefit?</strong></span></h4>\n<h2 style="text-align: center">\n	<strong>Please Join Us for a Complimentary Seminar</strong></h2>\n<h3 style="text-align: center">\n	<span style="color: #cc9966"><strong>Securing Your Retirement: </strong></span></h3>\n<h3 style="text-align: center">\n	<span style="color: #cc9966"><strong>Transforming Social Security into a Winning Retirement Strategy</strong></span><br />\n	&nbsp\;</h3>\n<h3 style="text-align: center">\n	&nbsp\;</h3>\n<h3 style="text-align: center">\n	<span style="color: #000080"><strong>The event will be held at:</strong></span><br />\n	<br />\n	The Mission Oak Grill<br />\n	26 Green Street<br />\n	Newburyport\, MA 01950<br />\n	<br />\n	<span style="color: #000080"><strong>Thursday\, September 29\, 2011</strong></span><br />\n	<br />\n	5:30 - 6:30 Reception\, Meet &amp\; Greet<br />\n	6:30 - 8:30 Presentations\, Q&amp\;A<br />\n	<br />\n	<span style="color: #0000cd"><strong>Please RSVP by September 27th\, 2011<br />\n	(978) 462-9500 - or email - steve@hugheswmg.com<br />\n	<br />\n	<br />\n	<em>You are invited to bring a friend. Please reserve your seats today\,Space is Limited! </em></strong></span><br />\n	<br />\n	<br />\n	&nbsp\;</h3>\n
LOCATION:Missioan Oak Grill
UID:e.1189.2252
SEQUENCE:3
DTSTAMP:20260419T211133Z
URL:https://business.newburyportchamber.org/events/details/social-security-retirement-seminar-09-29-2011-2252
END:VEVENT

END:VCALENDAR
