BEGIN:VCALENDAR
VERSION:2.0
PRODID:-//ChamberMaster//Event Calendar 2.0//EN
METHOD:PUBLISH
X-PUBLISHED-TTL:P3D
REFRESH-INTERVAL:P3D
CALSCALE:GREGORIAN
BEGIN:VEVENT
DTSTART:20090916T040000Z
DTEND:20090916T040000Z
X-MICROSOFT-CDO-ALLDAYEVENT:FALSE
SUMMARY:Social Media Educational Seminar - Part I
DESCRIPTION:Social Media – Part I (of a 2 part series)A Panel Discussion Sponsored by Institution for Savings Facebook\, Twitter\, Linked-In\, Blogging\, etc.. What’s all the hype and why should I care? What does it mean for me and my business?  Is it really necessary and what are the pros and cons? If you’ve asked yourself these questions\, then don’t miss this seminar! The growth in usage of social media has been exponential and is sure to increase in the future.  There is also a migration from personal usage of social media to business usage as a low cost marketing tool.  You want your business to be found even when you are not necessarily there and without a huge time commitment to this.  We will explore the benefits to your business that can be gained by engaging in social media and differentiating yourself from competitors.   Part II will cover more of the technical how-to’s and how to get started. Panelists: Eddie Chin\, F6 GroupKim Gobbi\, Newburyport TodayBilly MacDonald\, The Discovery Communications Group * These seminars are intended for those who already have some general knowledge of these tools but are not sure how to integrate them into their business. 7:30am Coffee & Registration8:00am - 10:00am Presentation \nYou must pre-register.  Limited space available! Members:  $15 Non Members: $25
X-ALT-DESC;FMTTYPE=text/html:<DIV><P class=MsoNormal><FONT color=#0f0f0f></FONT><P class=MsoNormal><FONT color=#0f0f0f face="Times New Roman"><SPAN style="FONT-SIZE: 12pt"></SPAN></FONT></P><FONT size=2><FONT color=#ff0000 size=3><P style="MARGIN: 0in 0in 0pt" class=MsoNormal><SPAN style="FONT-FAMILY: Arial\; FONT-SIZE: 10pt"><FONT size=3><SPAN style="FONT-FAMILY: Arial\; FONT-SIZE: 10pt">&nbsp\;</P><P style="MARGIN: 0in 0in 0pt" class=MsoNormal><SPAN style="COLOR: blue"><FONT size=3><STRONG>Social Media – Part I (of a 2 part series)<?xml:namespace prefix = o ns = "urn:schemas-microsoft-com:office:office" /><o:p></o:p></STRONG></FONT></SPAN></P><P style="MARGIN: 0in 0in 0pt" class=MsoNormal><SPAN style="COLOR: blue"><FONT size=3><STRONG>A Panel Discussion<o:p></o:p></STRONG></FONT></SPAN></P><P style="MARGIN: 0in 0in 0pt" class=MsoNormal><o:p><FONT color=#000000 size=3><STRONG>&nbsp\;</STRONG></FONT></o:p></SPAN></FONT></SPAN><SPAN style="FONT-FAMILY: Arial\; FONT-SIZE: 10pt"><FONT size=3></P><P style="MARGIN: 0in 0in 0pt" class=MsoNormal><SPAN style="FONT-FAMILY: Arial\; FONT-SIZE: 10pt"><FONT color=#008000 size=3><STRONG>Sp</STRONG></FONT></SPAN><SPAN style="FONT-FAMILY: Arial\; FONT-SIZE: 10pt"><FONT color=#008000 size=3><STRONG>onsored by <A style="COLOR: blue\; TEXT-DECORATION: underline" title="" dataFld=0:0 href="http://www.institutionforsavings.com" target=_NewWindow>Institution for Savings</A></STRONG></FONT></SPAN></P><P style="MARGIN: 0in 0in 0pt" class=MsoNormal><SPAN style="FONT-FAMILY: Arial\; FONT-SIZE: 10pt"><STRONG><FONT color=#008000 size=3></FONT></STRONG></SPAN>&nbsp\;</P><SPAN style="FONT-FAMILY: Arial\; FONT-SIZE: 10pt"><P style="MARGIN: 0in 0in 0pt" class=MsoNormal><P style="MARGIN: 0in 0in 0pt" class=MsoNormal><o:p><FONT color=#000000 size=3></FONT></o:p></P><FONT color=#000000 size=3>Facebook\, Twitter\, Linked-In\, Blogging\, etc..</FONT><P></P><P style="MARGIN: 0in 0in 0pt" class=MsoNormal><o:p><FONT color=#000000 size=3>&nbsp\;</FONT></o:p></P><P style="MARGIN: 0in 0in 0pt" class=MsoNormal><FONT color=#000000 size=3>What’s <?xml:namespace prefix = st1 ns = "urn:schemas-microsoft-com:office:smarttags" /><st1:PersonName>all</st1:PersonName> the hype and why should I care? What does it mean for me and my business?<SPAN style="mso-spacerun: yes">&nbsp\; </SPAN>Is it re<st1:PersonName>all</st1:PersonName>y necessary and what are the pros and cons? If you’ve asked yourself these questions\, then don’t miss this seminar!</FONT></P><P style="MARGIN: 0in 0in 0pt" class=MsoNormal><o:p><FONT color=#000000 size=3>&nbsp\;</FONT></o:p></P><P style="MARGIN: 0in 0in 0pt" class=MsoNormal><FONT size=3><FONT color=#000000>The growth in usage of social media has been exponential and is sure to increase in the future.<SPAN style="mso-spacerun: yes">&nbsp\; </SPAN>There is also a migration from personal usage of social media to business usage as a low cost marketing tool.<SPAN style="mso-spacerun: yes">&nbsp\; </SPAN>You want your business to be found even when you are not necessarily there and without a huge time commitment to this.<SPAN style="mso-spacerun: yes">&nbsp\; </SPAN>We will explore the benefits to your business that can be gained by engaging in social media and differentiating yourself from competitors.<SPAN style="mso-spacerun: yes">&nbsp\; </SPAN><o:p></o:p></FONT></FONT></P><P style="MARGIN: 0in 0in 0pt" class=MsoNormal><o:p><FONT color=#000000 size=3>&nbsp\;</FONT></o:p></P><P style="MARGIN: 0in 0in 0pt" class=MsoNormal><FONT color=#000000 size=3>Part II will cover more of the technical how-to’s and how to get started.</FONT></P><P style="MARGIN: 0in 0in 0pt" class=MsoNormal><o:p><FONT color=#000000 size=3>&nbsp\;</FONT></o:p></P><P style="MARGIN: 0in 0in 0pt" class=MsoNormal><B style="mso-bidi-font-weight: normal"><FONT size=3><FONT color=#000000>Panelists:<o:p></o:p></FONT></FONT></B></P><P style="MARGIN: 0in 0in 0pt" class=MsoNormal><B style="mso-bidi-font-weight: normal"><o:p><FONT color=#000000 size=3>&nbsp\;</FONT></o:p></B></P><P style="MARGIN: 0in 0in 0pt" class=MsoNormal><FONT size=3><FONT color=#000000>Eddie Chin\, <A style="COLOR: blue\; TEXT-DECORATION: underline" title="" dataFld=0:0 href="http://www.f6group.com/" target=_NewWindow>F6 Group<o:p></o:p></A></FONT></FONT></P><P style="MARGIN: 0in 0in 0pt" class=MsoNormal><FONT color=#000000 size=3>Kim Gobbi\, <A style="COLOR: blue\; TEXT-DECORATION: underline" title="" dataFld=0:0 href="http://www.newburyport-today.com " target=_NewWindow><st1:City><st1:place>Newburyport</st1:place></st1:City> Today</A></FONT></P><P style="MARGIN: 0in 0in 0pt" class=MsoNormal><FONT size=3><FONT color=#000000><st1:PersonName>Billy MacDonald</st1:PersonName>\, <A style="COLOR: blue\; TEXT-DECORATION: underline" title="" dataFld=0:0 href="http://www.discoverycomm.com/" target=_NewWindow>The Discovery Communications Group<o:p></o:p></A></FONT></FONT></P><P style="MARGIN: 0in 0in 0pt" class=MsoNormal><o:p><FONT color=#000000 size=3>&nbsp\;</FONT></o:p></P><P style="MARGIN: 0in 0in 0pt" class=MsoNormal><B style="mso-bidi-font-weight: normal"><I style="mso-bidi-font-style: normal"><FONT size=3><FONT color=#000000>* These seminars are intended for those who already have some general knowledge of these tools but are not sure how to integrate them into their business.<o:p></o:p></FONT></FONT></I></B></P><P style="MARGIN: 0in 0in 0pt" class=MsoNormal></SPAN></FONT></SPAN><FONT color=#000000><st1:time Minute="45" Hour="7"><SPAN style="FONT-FAMILY: Arial\; FONT-SIZE: 10pt">&nbsp\;</SPAN></st1:time></FONT></P><P style="MARGIN: 0in 0in 0pt" class=MsoNormal><FONT color=#000000><st1:time Minute="45" Hour="7"><SPAN style="FONT-FAMILY: Arial\; FONT-SIZE: 10pt">7:30am Coffee &amp\; Registration</SPAN></st1:time></FONT></P><P style="MARGIN: 0in 0in 0pt" class=MsoNormal><FONT color=#000000><st1:time Minute="45" Hour="7"><SPAN style="FONT-FAMILY: Arial\; FONT-SIZE: 10pt">8:00am - 10:00am Presentation</SPAN></st1:time></FONT></P><P style="MARGIN: 0in 0in 0pt" class=MsoNormal><FONT color=#000000><st1:time Minute="45" Hour="7"><SPAN style="FONT-FAMILY: Arial\; FONT-SIZE: 10pt"></SPAN></st1:time></FONT><FONT face=Arial>&nbsp\;</FONT></FONT></FONT><FONT face=Arial><FONT size=2><FONT color=#ff0000 size=3><SPAN style="FONT-FAMILY: Arial\; FONT-SIZE: 10pt"><FONT color=#000000><BR></FONT></SPAN></FONT></FONT></FONT><FONT face=Arial><FONT size=2><FONT color=#0000ff size=3><SPAN style="FONT-FAMILY: Arial\; FONT-SIZE: 10pt"><STRONG><EM>You must pre-register.&nbsp\; Limited space available!</EM></STRONG></SPAN></FONT></FONT></FONT></P><P style="MARGIN: 0in 0in 0pt" class=MsoNormal><FONT face=Arial><FONT size=2><FONT color=#ff0000 size=3><SPAN style="FONT-FAMILY: Arial\; FONT-SIZE: 10pt"><FONT color=#000000></FONT></SPAN>&nbsp\;</P></DIV><DIV><P style="MARGIN: 0in 0in 0pt" class=MsoNormal><SPAN style="FONT-FAMILY: Arial\; FONT-SIZE: 10pt"><o:p></o:p></SPAN></P><P style="MARGIN: 0in 0in 0pt" class=MsoNormal><STRONG><FONT color=#000000><st1:City><st1:place><I style="mso-bidi-font-style: normal"><SPAN style="FONT-FAMILY: Arial\; FONT-SIZE: 10pt">Members:&nbsp\; $15&nbsp\;</SPAN></I></st1:place></st1:City></FONT></STRONG></P><P style="MARGIN: 0in 0in 0pt" class=MsoNormal><STRONG><FONT color=#000000><st1:City><st1:place><I style="mso-bidi-font-style: normal"><SPAN style="FONT-FAMILY: Arial\; FONT-SIZE: 10pt">Non Members: $25</SPAN></I></st1:place></st1:City></FONT></STRONG></P><P style="MARGIN: 0in 0in 0pt" class=MsoNormal><STRONG><FONT color=#000000><st1:City><st1:place><I style="mso-bidi-font-style: normal"><SPAN style="FONT-FAMILY: Arial\; FONT-SIZE: 10pt"></SPAN></I></st1:place></st1:City></FONT></STRONG>&nbsp\;</P><P style="MARGIN: 0in 0in 0pt" class=MsoNormal><SPAN style="FONT-FAMILY: Arial\; FONT-SIZE: 10pt"></SPAN></FONT></FONT></FONT>&nbsp\;</P></DIV>
LOCATION:Phoenix Room
UID:e.1189.1261
SEQUENCE:3
DTSTAMP:20260421T183350Z
URL:https://business.newburyportchamber.org/events/details/social-media-educational-seminar-part-i-09-16-2009-1261
END:VEVENT

END:VCALENDAR
