BEGIN:VCALENDAR
VERSION:2.0
PRODID:-//ChamberMaster//Event Calendar 2.0//EN
METHOD:PUBLISH
X-PUBLISHED-TTL:P3D
REFRESH-INTERVAL:P3D
CALSCALE:GREGORIAN
BEGIN:VEVENT
DTSTART:20120115T190000Z
DTEND:20120115T210000Z
X-MICROSOFT-CDO-ALLDAYEVENT:FALSE
SUMMARY:Sing-a-Long-a Sound of Music at Firehouse Center for the Arts
DESCRIPTION:Sing-a-Long-a Sound of Music is a screening of the classic Julie Andrews film musical in glorious\, full-screen technicolor\, complete with subtitles so that the whole audience can sing along!\n\n	The fun-filled show starts with a vocal warm-up led by the most charming John Budzyna\, who will be your host for the evening.  John will also take the audience through a complimentary 'magic moments pack'\, containing various props to be used at strategic points throughout the Sing-a-Long-a Sound of Music film.\n\n	Then of course there is the famous fancy-dress competition in which everyone who has come in costume is judged as they enter the theater and prizes are awarded. The more venues played\, the more elaborate the costumes get. This is fun for the whole family!\n\n	Do not miss this event that has been a smashing success the world-over.  This is a great gift idea for anyone who has ever wanted to star in a musical!
X-ALT-DESC;FMTTYPE=text/html:<strong><em>Sing-a-Long-a Sound of Music</em></strong> is a screening of the classic Julie Andrews film musical in glorious\, full-screen technicolor\, complete with subtitles so that the whole audience can sing along!\n<p class="eventtext style19">\n	The fun-filled show starts with a vocal warm-up led by the most charming<strong> John Budzyna</strong>\, who will be your host for the evening.&nbsp\; John will also take the audience through a complimentary &lsquo\;magic moments pack&rsquo\;\, containing various props to be used at strategic points throughout the Sing-a-Long-a Sound of Music film.</p>\n<p>\n	Then of course there is the famous fancy-dress competition in which everyone who has come in costume is judged as they enter the theater and prizes are awarded. The more venues played\, the more elaborate the costumes get. This is fun for the whole family!</p>\n<p>\n	Do not miss this event that has been a smashing success the world-over.&nbsp\; This is a great gift idea for anyone who has ever wanted to star in a musical!&nbsp\;</p>\n
LOCATION:Firehouse Center for the Arts Market Square Newburyport MA 01950
UID:e.1189.2398
SEQUENCE:3
DTSTAMP:20260419T141739Z
URL:https://business.newburyportchamber.org/events/details/sing-a-long-a-sound-of-music-at-firehouse-center-for-the-arts-01-15-2012-2398
END:VEVENT

END:VCALENDAR
