BEGIN:VCALENDAR
VERSION:2.0
PRODID:-//ChamberMaster//Event Calendar 2.0//EN
METHOD:PUBLISH
X-PUBLISHED-TTL:P3D
REFRESH-INTERVAL:P3D
CALSCALE:GREGORIAN
BEGIN:VEVENT
DTSTART:20110709T230000Z
DTEND:20110710T010000Z
X-MICROSOFT-CDO-ALLDAYEVENT:FALSE
SUMMARY:Shirim Klezmer Orchestra
DESCRIPTION:see website\n\n	maudslayartscenter.org
X-ALT-DESC;FMTTYPE=text/html:<p>\n	see website<br />\n	maudslayartscenter.org</p>\n
LOCATION:Maudslay Arts Center 95 Curzon Mill Rd.\, Maudslay State Park Newburyport (978) 499-0050
UID:e.1189.1962
SEQUENCE:3
DTSTAMP:20260420T021405Z
URL:https://business.newburyportchamber.org/events/details/shirim-klezmer-orchestra-07-09-2011-1962
END:VEVENT

END:VCALENDAR
