BEGIN:VCALENDAR
VERSION:2.0
PRODID:-//ChamberMaster//Event Calendar 2.0//EN
METHOD:PUBLISH
X-PUBLISHED-TTL:P3D
REFRESH-INTERVAL:P3D
CALSCALE:GREGORIAN
BEGIN:VEVENT
DTSTART:20110806T000000Z
DTEND:20110806T020000Z
X-MICROSOFT-CDO-ALLDAYEVENT:FALSE
SUMMARY:Shaboo Allstars with Matt
DESCRIPTION:In 1980\, David Foster assembled a group of talented musicians who had made earlier stops at his club to form David Foster and the Shaboo All-Stars. Foster and his band went on to become one of the bestknown bands in Connecticut during the next twenty years. Foster has now armed himself with a complete assembly of All-Star musicians who are quite frankly some of the best in the business today. The band's rotating lineup often includes appearances by Maceo Parker (Saxophone) and Matt "Guitar" Murphy (of "Blues Brothers" fame)\, both of who appear on "Powerful Stuff". Guitarist Cliff Goodwin (JoeCocker\, Robert Palmer)\, Keyboardist Mitch Chakour (Bonnie Raitt\, Joe Cocker)\, Guitarist Jeff Pevar(currently with CPR featuring David Crosby)\, and Keyboardist Michael Finnegan (who has recorded with Jimi Hendrix at Electric Ladyland) lead a formidable 14 member cast with an extensive list of musical credentials.
X-ALT-DESC;FMTTYPE=text/html:In 1980\, David Foster assembled a group of talented musicians who had made earlier stops at his club to form David Foster and the Shaboo All-Stars. Foster and his band went on to become one of the bestknown bands in Connecticut during the next twenty years. Foster has now armed himself with a complete assembly of All-Star musicians who are quite frankly some of the best in the business today. The band&rsquo\;s rotating lineup often includes appearances by Maceo Parker (Saxophone) and Matt &ldquo\;Guitar&rdquo\; Murphy (of &ldquo\;Blues Brothers&rdquo\; fame)\, both of who appear on &ldquo\;Powerful Stuff&rdquo\;. Guitarist Cliff Goodwin (JoeCocker\, Robert Palmer)\, Keyboardist Mitch Chakour (Bonnie Raitt\, Joe Cocker)\, Guitarist Jeff Pevar(currently with CPR featuring David Crosby)\, and Keyboardist Michael Finnegan (who has recorded with Jimi Hendrix at Electric Ladyland) lead a formidable 14 member cast with an extensive list of musical credentials.
LOCATION:Blue Ocean Music Hall 4 Oceanfront North Salisbury
UID:e.1189.1992
SEQUENCE:3
DTSTAMP:20260419T224335Z
URL:https://business.newburyportchamber.org/events/details/shaboo-allstars-with-matt-08-05-2011-1992
END:VEVENT

END:VCALENDAR
