BEGIN:VCALENDAR
VERSION:2.0
PRODID:-//ChamberMaster//Event Calendar 2.0//EN
METHOD:PUBLISH
X-PUBLISHED-TTL:P3D
REFRESH-INTERVAL:P3D
CALSCALE:GREGORIAN
BEGIN:VEVENT
DTSTART:20110909T113000Z
DTEND:20110909T130000Z
X-MICROSOFT-CDO-ALLDAYEVENT:FALSE
SUMMARY:September Breakfast - Going the 21 miles....
DESCRIPTION:Business Lessons from a long distance swimmer\n\n\n\nJoin us for the kick off of the fall breakfast speaker series with a motivational and business focused presentation by Davis Lee\, Newburyport resident\, nuclear physicist at Axcelis Technologies in Beverly and marathon swimmer.\n\n\n\nDavis successfully swam the English Channel last summer\, and just three weeks ago successfully swam the Catalina Channel. Davis is planning the final swim of the "Triple Crown" of open water swimming by swimming Manhattan Island marathon swim in the near future.  When successful Davis will be one of 43 people in the world who have completed the Triple Crown of open water swimming.\n\n\n\nPlease join us for this breakfast as we will all hear how endurance\, "supreme stubbornness" and focus can help you as you grow\, maintain or analyze your business.
X-ALT-DESC;FMTTYPE=text/html:<br />\n<br />\n<span style="font-size: 14px"><strong>Business Lessons from a long distance swimmer</strong></span><br />\n<br />\nJoin us for the kick off of the fall breakfast speaker series with a motivational and business focused presentation by Davis Lee\, Newburyport resident\, nuclear physicist at Axcelis Technologies in Beverly and marathon swimmer.<br />\n<br />\nDavis successfully swam the English Channel last summer\, and just three weeks ago successfully swam the Catalina Channel. Davis is planning the final swim of the &ldquo\;Triple Crown&rdquo\; of open water swimming by swimming Manhattan Island marathon swim in the near future.&nbsp\; When successful Davis will be one of 43 people in the world who have completed the Triple Crown of open water swimming.<br />\n<br />\nPlease join us for this breakfast as we will all hear how<strong> endurance\, &ldquo\;supreme stubbornness&rdquo\; </strong>and<strong> focus can help you as you grow\, maintain or analyze your business.&nbsp\;&nbsp\;</strong>&nbsp\;<br />\n&nbsp\;<br />\n
LOCATION:Mission Oak Grill 26 Green Street\, Newburyport\, MA
UID:e.1189.2131
SEQUENCE:3
DTSTAMP:20260419T211133Z
URL:https://business.newburyportchamber.org/events/details/september-breakfast-going-the-21-miles-09-09-2011-2131
END:VEVENT

END:VCALENDAR
