BEGIN:VCALENDAR
VERSION:2.0
PRODID:-//ChamberMaster//Event Calendar 2.0//EN
METHOD:PUBLISH
X-PUBLISHED-TTL:P3D
REFRESH-INTERVAL:P3D
CALSCALE:GREGORIAN
BEGIN:VEVENT
DTSTART:20090910T040000Z
DTEND:20090910T040000Z
X-MICROSOFT-CDO-ALLDAYEVENT:FALSE
SUMMARY:September 2009 Breakfast Forum Series
DESCRIPTION:Join us for the September Breakfast Forum!Spaker:\nDelia O'Connor\, President & CEO of Anna Jaques HospitalTopic:\nHealth Care Reform & Cost ControlSeason Ticket Holders:\nTo register\, email Pam Marrese at pmarrese@newburyportchamber.org.Reservations Required.\nPlease note: reservations not cancelled 24 hours prior to event will be charged.
X-ALT-DESC;FMTTYPE=text/html:<FONT face=Arial size=2><P><SPAN style="FONT-SIZE: 10pt\; FONT-FAMILY: Arial">Join us for&nbsp\;the September&nbsp\;Breakfast Forum!</SPAN></P><P><SPAN style="FONT-SIZE: 10pt\; FONT-FAMILY: Arial"><SPAN><SPAN><STRONG>Spaker:<BR></STRONG></SPAN></SPAN></SPAN><SPAN style="FONT-SIZE: 10pt\; FONT-FAMILY: Arial">Delia O'Connor\, President &amp\; CEO of Anna Jaques Hospital</SPAN></P><P><SPAN style="FONT-SIZE: 10pt\; FONT-FAMILY: Arial"><SPAN><STRONG>Topic:<BR></STRONG></SPAN>Health Care Reform &amp\; Cost Control</SPAN></P><SPAN style="FONT-SIZE: 10pt\; FONT-FAMILY: Arial"><P><SPAN><STRONG>Season Ticket Holders:<BR></STRONG></SPAN><SPAN style="FONT-SIZE: 10pt\; FONT-FAMILY: Arial">To register\, email Pam Marrese at <A href="mailto:pmarrese@newburyportchamber.org">pmarrese@newburyportchamber.org</A>.</SPAN></SPAN></P><P class=MsoNormal style="MARGIN: 0in 0in 0pt"><STRONG><SPAN style="FONT-SIZE: 10pt\; FONT-FAMILY: Arial">Reservations&nbsp\;Required.</SPAN></STRONG><B><SPAN style="FONT-SIZE: 10pt\; FONT-FAMILY: Arial"><BR></SPAN></B><SPAN style="FONT-SIZE: 10pt\; FONT-FAMILY: Arial">Please note: reservations not cancelled 24 hours prior to event will be charged.</SPAN></FONT></P>
LOCATION:Phoenix Room
UID:e.1189.1279
SEQUENCE:3
DTSTAMP:20260421T181218Z
URL:https://business.newburyportchamber.org/events/details/september-2009-breakfast-forum-series-09-10-2009-1279
END:VEVENT

END:VCALENDAR
