BEGIN:VCALENDAR
VERSION:2.0
PRODID:-//ChamberMaster//Event Calendar 2.0//EN
METHOD:PUBLISH
X-PUBLISHED-TTL:P3D
REFRESH-INTERVAL:P3D
CALSCALE:GREGORIAN
BEGIN:VEVENT
DTSTART:20091209T050000Z
DTEND:20091209T050000Z
X-MICROSOFT-CDO-ALLDAYEVENT:FALSE
SUMMARY:Seminar - Maximize the Effectiveness of Your Website & More!
DESCRIPTION:** LOCATION CHANGE\nPhoenix Room \, 19 Inn Street\, downtown NewburyportMaximize the Effectiveness of Your WebsiteSponsored by Institution for SavingsHow to utilize your website as the hub of your marketing strategyØ      How to improve the content\, look and functionality of your websiteØ      How to optimize your site for search enginesØ      Other strategies for driving traffic to your siteØ      How to select and communicate with your website developerØ      How to accomplish all of the above on a budgetPresented by Nils Menten of iMarc and Beth Durkee of Eyeland Creations\n\nMembers: Free Admisson \nNon Members:  $15\nRSVP required
X-ALT-DESC;FMTTYPE=text/html:<DIV><FONT face=Arial size=2><SPAN style="FONT-WEIGHT: bold\; FONT-SIZE: 10pt\; COLOR: blue\; FONT-STYLE: italic\; FONT-FAMILY: Arial"><FONT face=Georgia color=#000000><P class=MsoNormal><FONT face="Times New Roman" size=5><SPAN style="FONT-SIZE: 10pt\; FONT-FAMILY: Verdana"></SPAN></FONT></P><FONT face=Arial color=#ff0000 size=3><SPAN style="FONT-SIZE: 10pt\; COLOR: blue\; FONT-FAMILY: Arial"><P class=MsoNormal style="MARGIN: 0in 0in 0pt"><B style="mso-bidi-font-weight: normal"><SPAN style="FONT-SIZE: 14pt\; COLOR: red\; FONT-FAMILY: Arial"><FONT size=3>** LOCATION CHANGE<BR>Phoenix Room \, 19 Inn Street\, downtown Newburyport</FONT></SPAN></B></P></SPAN></FONT><P class=MsoNormal><FONT face=Arial color=#0000ff size=3><SPAN style="FONT-SIZE: 10pt\; COLOR: blue\; FONT-FAMILY: Arial">Maximize the Effectiveness of Your Website</SPAN></FONT></P><P class=MsoNormal><FONT face=Arial color=#004000 size=2><SPAN style="FONT-SIZE: 10pt\; COLOR: blue\; FONT-FAMILY: Arial"></SPAN></FONT><FONT face=Arial color=#004000 size=2><SPAN style="FONT-SIZE: 10pt\; COLOR: blue\; FONT-FAMILY: Arial">Sponsored by <A dataFld=0:0 title="" style="COLOR: blue\; TEXT-DECORATION: underline" href="http://www.institutionforsavings.com" target=_NewWindow><FONT color=#008000>Institution for Savings</FONT></A></SPAN></FONT></P><P class=MsoNormal><FONT face=Arial color=#004000 size=2><SPAN style="FONT-SIZE: 10pt\; COLOR: blue\; FONT-FAMILY: Arial"><SPAN style="FONT-SIZE: 11pt"><FONT color=#000000>How to utilize your website as the hub of your marketing strategy<?xml:namespace prefix = o ns = "urn:schemas-microsoft-com:office:office" /><o:p></o:p></FONT></SPAN></P><P class=MsoNormal style="MARGIN-LEFT: 0.5in\; TEXT-INDENT: -0.25in\; mso-list: l0 level1 lfo1"><FONT color=#000000><FONT face=Wingdings size=2><SPAN style="FONT-SIZE: 11pt\; FONT-FAMILY: Wingdings"><SPAN style="mso-list: Ignore">Ø<FONT face="Times New Roman" size=1><SPAN style="FONT: 7pt 'Times New Roman'">&nbsp\;&nbsp\;&nbsp\;&nbsp\;&nbsp\; </SPAN></FONT></SPAN></SPAN></FONT><FONT size=2><SPAN style="FONT-SIZE: 11pt">How to improve the content\, look and functionality of your website<o:p></o:p></SPAN></FONT></FONT></P><P class=MsoNormal style="MARGIN-LEFT: 0.5in\; TEXT-INDENT: -0.25in\; mso-list: l0 level1 lfo1"><FONT color=#000000><FONT face=Wingdings size=2><SPAN style="FONT-SIZE: 11pt\; FONT-FAMILY: Wingdings"><SPAN style="mso-list: Ignore">Ø<FONT face="Times New Roman" size=1><SPAN style="FONT: 7pt 'Times New Roman'">&nbsp\;&nbsp\;&nbsp\;&nbsp\;&nbsp\; </SPAN></FONT></SPAN></SPAN></FONT><FONT size=2><SPAN style="FONT-SIZE: 11pt">How to optimize your site for search engines<o:p></o:p></SPAN></FONT></FONT></P><P class=MsoNormal style="MARGIN-LEFT: 0.5in\; TEXT-INDENT: -0.25in\; mso-list: l0 level1 lfo1"><FONT color=#000000><FONT face=Wingdings size=2><SPAN style="FONT-SIZE: 11pt\; FONT-FAMILY: Wingdings"><SPAN style="mso-list: Ignore">Ø<FONT face="Times New Roman" size=1><SPAN style="FONT: 7pt 'Times New Roman'">&nbsp\;&nbsp\;&nbsp\;&nbsp\;&nbsp\; </SPAN></FONT></SPAN></SPAN></FONT><FONT size=2><SPAN style="FONT-SIZE: 11pt">Other strategies for driving traffic to your site<o:p></o:p></SPAN></FONT></FONT></P><P class=MsoNormal style="MARGIN-LEFT: 0.5in\; TEXT-INDENT: -0.25in\; mso-list: l0 level1 lfo1"><FONT color=#000000><FONT face=Wingdings size=2><SPAN style="FONT-SIZE: 11pt\; FONT-FAMILY: Wingdings"><SPAN style="mso-list: Ignore">Ø<FONT face="Times New Roman" size=1><SPAN style="FONT: 7pt 'Times New Roman'">&nbsp\;&nbsp\;&nbsp\;&nbsp\;&nbsp\; </SPAN></FONT></SPAN></SPAN></FONT><FONT size=2><SPAN style="FONT-SIZE: 11pt">How to select and communicate with your website developer<o:p></o:p></SPAN></FONT></FONT></P><P class=MsoNormal style="MARGIN-LEFT: 0.5in\; TEXT-INDENT: -0.25in\; mso-list: l0 level1 lfo1"><FONT color=#000000><FONT face=Wingdings size=2><SPAN style="FONT-SIZE: 11pt\; FONT-FAMILY: Wingdings"><SPAN style="mso-list: Ignore">Ø<FONT face="Times New Roman" size=1><SPAN style="FONT: 7pt 'Times New Roman'">&nbsp\;&nbsp\;&nbsp\;&nbsp\;&nbsp\; </SPAN></FONT></SPAN></SPAN></FONT><FONT size=2><SPAN style="FONT-SIZE: 11pt">How to accomplish all of the above on a budget<o:p></o:p></SPAN></FONT></FONT></P></SPAN></FONT><P class=MsoNormal><FONT color=#000000><FONT face=Arial size=2><SPAN style="FONT-SIZE: 10pt\; COLOR: blue\; FONT-FAMILY: Arial">Presented by Nils Menten of <A dataFld=0:0 title="" style="COLOR: blue\; TEXT-DECORATION: underline" href="http://www.imarc.net/" target=_NewWindow>iMarc</A> and Beth Durkee of <A dataFld=0:0 title="" style="COLOR: blue\; TEXT-DECORATION: underline" href="http://www.eyelandcreations.com/" target=_NewWindow>Eyeland Creations</A></SPAN></FONT><BR></FONT><BR></FONT></SPAN></FONT><FONT face=Arial size=2><SPAN style="FONT-SIZE: 10pt\; FONT-FAMILY: Arial"><STRONG>Members: Free Admisson <BR>Non Members:&nbsp\; $15</STRONG></SPAN></FONT><FONT face=Arial size=2><SPAN style="FONT-SIZE: 10pt\; FONT-FAMILY: Arial"><STRONG><BR></STRONG><FONT color=#000000>RSVP required</FONT></SPAN></FONT></P><FONT face=Arial size=2><SPAN style="FONT-SIZE: 10pt\; FONT-FAMILY: Arial"><P class=MsoNormal><FONT face=Arial color=#ff0000 size=2><SPAN style="FONT-SIZE: 10pt\; FONT-FAMILY: Arial"><STRONG></STRONG></SPAN></FONT>&nbsp\;</P></SPAN></FONT></DIV>
LOCATION:Phoenix Room
UID:e.1189.1336
SEQUENCE:3
DTSTAMP:20260421T132304Z
URL:https://business.newburyportchamber.org/events/details/seminar-maximize-the-effectiveness-of-your-website-more-12-09-2009-1336
END:VEVENT

END:VCALENDAR
