BEGIN:VCALENDAR
VERSION:2.0
PRODID:-//ChamberMaster//Event Calendar 2.0//EN
METHOD:PUBLISH
X-PUBLISHED-TTL:P3D
REFRESH-INTERVAL:P3D
CALSCALE:GREGORIAN
BEGIN:VEVENT
DTSTART:20100120T050000Z
DTEND:20100120T050000Z
X-MICROSOFT-CDO-ALLDAYEVENT:FALSE
SUMMARY:Seminar-Increasing Revenues Through Effective Sales Process
DESCRIPTION:Increasing Revenues Through an Effective Sales Process Does your business have a well defined and documented Sales Process?Is your current Sales Process yielding the desired results?  Is it integrated with your marketing and service programs?  Is it in need of a major overhaul\, or just in need of a minor tune up?  This seminar will focus on: 1.)    Evaluating the effectiveness of your current Sales Process2.)    Defining and documenting your Sales Process and desired results3.)    The impact of integrating your marketing and customer service with your Sales Process4.)    Process improvement initiatives to address the changing business climate  What you will take away: 1.)    Tips on evaluating the effectiveness of your Sales Process2.)    A clearer understanding of the Sales Process3.)    Understanding the role of Marketing\, Sales & Customer Service in the Sales Process4.)    Specific strategies to increase sales and revenue Who should attend? Anyone who owns a business or is involved in sales and/or marketing for their business or organization.  Presented by Keith Boudreau of the Growth Coach\, Ken Halkin of Kenneth C. Halkin Management Consulting and Jane Moran of JM Business Development Solutions.\nCoffee will be served.\nAdmision Members: $15 \nNon Members:  $25\nRSVP requiredLocation: Newburyport Five Cents Saving Bank\, 63State Street.  Enter down the stairs to the left of the front entrance.\n* Please do not park in the bank parking lot.  There is plenty of room on State Street and the municipal lot next to the library.
X-ALT-DESC;FMTTYPE=text/html:<FONT face=Arial size=2><SPAN style="FONT-WEIGHT: bold\; FONT-SIZE: 10pt\; COLOR: blue\; FONT-STYLE: italic\; FONT-FAMILY: Arial"><FONT face=Georgia color=#000000><P class=MsoNormal><FONT face="Times New Roman" size=5><SPAN style="FONT-SIZE: 10pt\; FONT-FAMILY: Verdana"></SPAN></FONT></P><FONT face=Arial color=#ff0000 size=3><SPAN style="FONT-SIZE: 10pt\; COLOR: blue\; FONT-FAMILY: Arial"><P class=MsoNormal style="MARGIN: 0in 0in 0pt"></SPAN></FONT><P class=MsoNormal style="MARGIN: 0in 0in 0pt"><P class=MsoNormal style="MARGIN: 0in 0in 0pt\; TEXT-ALIGN: justify"><FONT face="Times New Roman" size=3></FONT></P><P class=MsoNormal></P><FONT color=#000000><FONT face=Arial size=2><SPAN style="FONT-SIZE: 10pt\; COLOR: blue\; FONT-FAMILY: Arial"><SPAN style="FONT-SIZE: 14pt"><FONT color=#000000><SPAN style="FONT-SIZE: 14pt"><FONT face="Times New Roman"><P class=MsoNormal style="MARGIN: 0in 0in 0pt"><SPAN style="FONT-SIZE: 11pt\; FONT-FAMILY: Arial"><U>Increasing Revenues Through an Effective Sales Process<?xml:namespace prefix = o ns = "urn:schemas-microsoft-com:office:office" /><o:p></o:p></U></SPAN></P><P class=MsoNormal style="MARGIN: 0in 0in 0pt"><SPAN style="FONT-SIZE: 11pt\; FONT-FAMILY: Arial"><o:p>&nbsp\;</o:p></SPAN></P><P class=MsoNormal style="MARGIN: 0in 0in 0pt"><SPAN style="FONT-SIZE: 11pt\; FONT-FAMILY: Arial">Does your business have a well defined and documented Sales Process?<o:p></o:p></SPAN></P><P class=MsoNormal style="MARGIN: 0in 0in 0pt"><SPAN style="FONT-SIZE: 11pt\; FONT-FAMILY: Arial">Is your current Sales Process yielding the desired results?<SPAN style="mso-spacerun: yes">&nbsp\; </SPAN>Is it integrated with your marketing and service programs? <SPAN style="mso-spacerun: yes">&nbsp\;</SPAN>Is it in need of a major overhaul\, or just in need of a minor tune up?<o:p></o:p></SPAN></P><P class=MsoNormal style="MARGIN: 0in 0in 0pt"><SPAN style="FONT-SIZE: 11pt\; FONT-FAMILY: Arial"><o:p>&nbsp\;</o:p></SPAN></P><P class=MsoNormal style="MARGIN: 0in 0in 0pt"><SPAN style="FONT-SIZE: 11pt\; FONT-FAMILY: Arial"><o:p>&nbsp\;</o:p></SPAN><SPAN style="FONT-SIZE: 11pt\; FONT-FAMILY: Arial"><U>This seminar will focus on:</U></SPAN></P><P class=MsoNormal style="MARGIN: 0in 0in 0pt"><SPAN style="FONT-SIZE: 11pt\; FONT-FAMILY: Arial"><U><o:p></o:p></U></SPAN>&nbsp\;</P><P class=MsoNormal style="MARGIN: 0in 0in 0pt"><SPAN style="FONT-SIZE: 11pt\; FONT-FAMILY: Arial"><o:p><SPAN style="TEXT-DECORATION: none"><U></U></SPAN></o:p></SPAN></P><P class=MsoNormal style="MARGIN: 0in 0in 0pt 36.75pt\; TEXT-INDENT: -18.75pt\; mso-list: l1 level1 lfo1\; tab-stops: list 36.75pt"><SPAN style="FONT-SIZE: 11pt\; FONT-FAMILY: Arial\; mso-fareast-font-family: Arial"><SPAN style="mso-list: Ignore">1.)<SPAN style="FONT: 7pt 'Times New Roman'">&nbsp\;&nbsp\;&nbsp\; </SPAN></SPAN></SPAN><SPAN style="FONT-SIZE: 11pt\; FONT-FAMILY: Arial">Evaluating the effectiveness of your current Sales Process<o:p></o:p></SPAN></P><P class=MsoNormal style="MARGIN: 0in 0in 0pt 36.75pt\; TEXT-INDENT: -18.75pt\; mso-list: l1 level1 lfo1\; tab-stops: list 36.75pt"><SPAN style="FONT-SIZE: 11pt\; FONT-FAMILY: Arial\; mso-fareast-font-family: Arial"><SPAN style="mso-list: Ignore">2.)<SPAN style="FONT: 7pt 'Times New Roman'">&nbsp\;&nbsp\;&nbsp\; </SPAN></SPAN></SPAN><SPAN style="FONT-SIZE: 11pt\; FONT-FAMILY: Arial">Defining and documenting your Sales Process and desired results<o:p></o:p></SPAN></P><P class=MsoNormal style="MARGIN: 0in 0in 0pt 36.75pt\; TEXT-INDENT: -18.75pt\; mso-list: l1 level1 lfo1\; tab-stops: list 36.75pt"><SPAN style="FONT-SIZE: 11pt\; FONT-FAMILY: Arial\; mso-fareast-font-family: Arial"><SPAN style="mso-list: Ignore">3.)<SPAN style="FONT: 7pt 'Times New Roman'">&nbsp\;&nbsp\;&nbsp\; </SPAN></SPAN></SPAN><SPAN style="FONT-SIZE: 11pt\; FONT-FAMILY: Arial">The impact of integrating your marketing and customer service with your Sales Process<o:p></o:p></SPAN></P><P class=MsoNormal style="MARGIN: 0in 0in 0pt 36.75pt\; TEXT-INDENT: -18.75pt\; mso-list: l1 level1 lfo1\; tab-stops: list 36.75pt"><SPAN style="FONT-SIZE: 11pt\; FONT-FAMILY: Arial\; mso-fareast-font-family: Arial"><SPAN style="mso-list: Ignore">4.)<SPAN style="FONT: 7pt 'Times New Roman'">&nbsp\;&nbsp\;&nbsp\; </SPAN></SPAN></SPAN><SPAN style="FONT-SIZE: 11pt\; FONT-FAMILY: Arial">Process improvement initiatives to address the changing business climate<o:p></o:p></SPAN></P><P class=MsoNormal style="MARGIN: 0in 0in 0pt 0.25in"><SPAN style="FONT-SIZE: 11pt\; FONT-FAMILY: Arial"><o:p>&nbsp\;</o:p></SPAN></P><P class=MsoNormal style="MARGIN: 0in 0in 0pt 0.25in"><SPAN style="FONT-SIZE: 11pt\; FONT-FAMILY: Arial"><o:p>&nbsp\;</o:p></SPAN></P><P class=MsoNormal style="MARGIN: 0in 0in 0pt"><SPAN style="FONT-SIZE: 11pt\; FONT-FAMILY: Arial"><U>What you will take away:</U></SPAN></P><P class=MsoNormal style="MARGIN: 0in 0in 0pt"><SPAN style="FONT-SIZE: 11pt\; FONT-FAMILY: Arial"><U><o:p></o:p></U></SPAN>&nbsp\;</P><P class=MsoNormal style="MARGIN: 0in 0in 0pt"><SPAN style="FONT-SIZE: 11pt\; FONT-FAMILY: Arial"><o:p><SPAN style="TEXT-DECORATION: none"><U></U></SPAN></o:p></SPAN></P><P class=MsoNormal style="MARGIN: 0in 0in 0pt 36.75pt\; TEXT-INDENT: -18.75pt\; mso-list: l0 level1 lfo2\; tab-stops: list 36.75pt"><SPAN style="FONT-SIZE: 11pt\; FONT-FAMILY: Arial\; mso-fareast-font-family: Arial"><SPAN style="mso-list: Ignore">1.)<SPAN style="FONT: 7pt 'Times New Roman'">&nbsp\;&nbsp\;&nbsp\; </SPAN></SPAN></SPAN><SPAN style="FONT-SIZE: 11pt\; FONT-FAMILY: Arial">Tips on evaluating the effectiveness of your Sales Process<o:p></o:p></SPAN></P><P class=MsoNormal style="MARGIN: 0in 0in 0pt 36.75pt\; TEXT-INDENT: -18.75pt\; mso-list: l0 level1 lfo2\; tab-stops: list 36.75pt"><SPAN style="FONT-SIZE: 11pt\; FONT-FAMILY: Arial\; mso-fareast-font-family: Arial"><SPAN style="mso-list: Ignore">2.)<SPAN style="FONT: 7pt 'Times New Roman'">&nbsp\;&nbsp\;&nbsp\; </SPAN></SPAN></SPAN><SPAN style="FONT-SIZE: 11pt\; FONT-FAMILY: Arial">A clearer understanding of the Sales Process<o:p></o:p></SPAN></P><P class=MsoNormal style="MARGIN: 0in 0in 0pt 36.75pt\; TEXT-INDENT: -18.75pt\; mso-list: l0 level1 lfo2\; tab-stops: list 36.75pt"><SPAN style="FONT-SIZE: 11pt\; FONT-FAMILY: Arial\; mso-fareast-font-family: Arial"><SPAN style="mso-list: Ignore">3.)<SPAN style="FONT: 7pt 'Times New Roman'">&nbsp\;&nbsp\;&nbsp\; </SPAN></SPAN></SPAN><SPAN style="FONT-SIZE: 11pt\; FONT-FAMILY: Arial">Understanding the role of Marketing\, Sales &amp\; Customer Service in the Sales Process<o:p></o:p></SPAN></P><P class=MsoNormal style="MARGIN: 0in 0in 0pt 36.75pt\; TEXT-INDENT: -18.75pt\; mso-list: l0 level1 lfo2\; tab-stops: list 36.75pt"><SPAN style="FONT-SIZE: 11pt\; FONT-FAMILY: Arial\; mso-fareast-font-family: Arial"><SPAN style="mso-list: Ignore">4.)<SPAN style="FONT: 7pt 'Times New Roman'">&nbsp\;&nbsp\;&nbsp\; </SPAN></SPAN></SPAN><SPAN style="FONT-SIZE: 11pt\; FONT-FAMILY: Arial">Specific strategies to increase sales and revenue<o:p></o:p></SPAN></P><P class=MsoNormal style="MARGIN: 0in 0in 0pt"><SPAN style="FONT-SIZE: 11pt\; FONT-FAMILY: Arial"><o:p>&nbsp\;</o:p></SPAN></P><P class=MsoNormal style="MARGIN: 0in 0in 0pt"><SPAN style="FONT-SIZE: 11pt\; FONT-FAMILY: Arial"><U>Who should attend?<o:p></o:p></U></SPAN></P><P class=MsoNormal style="MARGIN: 0in 0in 0pt"><SPAN style="FONT-SIZE: 11pt\; FONT-FAMILY: Arial"><o:p>&nbsp\;</o:p></SPAN></P><P class=MsoNormal style="MARGIN: 0in 0in 0pt"><SPAN style="FONT-SIZE: 11pt\; FONT-FAMILY: Arial">Anyone who owns a business or is involved in sales and/or marketing for their business or organization. <o:p></o:p></SPAN></P><P class=MsoNormal style="MARGIN: 0in 0in 0pt"></FONT></SPAN></P><P class=MsoNormal style="MARGIN: 0in 0in 0pt\; TEXT-ALIGN: center" align=left></FONT></SPAN></P></SPAN></FONT></FONT><DIV><FONT color=#000000><FONT face=Arial size=2><SPAN style="FONT-SIZE: 10pt\; COLOR: blue\; FONT-FAMILY: Arial"></SPAN></FONT></FONT>&nbsp\;</DIV><DIV><FONT color=#000000><FONT face=Arial size=2><SPAN style="FONT-SIZE: 10pt\; COLOR: blue\; FONT-FAMILY: Arial">Presented by Keith Boudreau of the <A dataFld=0:0 title="" style="COLOR: blue\; TEXT-DECORATION: underline" href="http://www.TheGrowthCoach.com" target=_NewWindow>Growth Coach</A>\,&nbsp\;Ken Halkin of&nbsp\;<A dataFld=0:0 title="" style="COLOR: blue\; TEXT-DECORATION: underline" href="http://www.kchalkinconsulting.com" target=_NewWindow>Kenneth C. Halkin Management Consulting</A> and Jane Moran of JM Business Development Solutions.</SPAN></FONT><BR></FONT></DIV><DIV>Coffee will be served.</DIV><DIV><BR></FONT></SPAN></FONT><FONT face=Arial size=2><SPAN style="FONT-SIZE: 10pt\; FONT-FAMILY: Arial"><STRONG>Admision Members: $15 <BR>Non Members:&nbsp\; $25</STRONG></SPAN></FONT><FONT face=Arial size=2><SPAN style="FONT-SIZE: 10pt\; FONT-FAMILY: Arial"><BR><FONT color=#000000>RSVP required</FONT></SPAN></FONT></DIV><P></P><P></P><FONT face=Arial size=2><SPAN style="FONT-SIZE: 10pt\; FONT-FAMILY: Arial"><P class=MsoNormal><FONT face=Arial color=#000000 size=2><SPAN style="FONT-SIZE: 10pt\; FONT-FAMILY: Arial"><STRONG>Location: Newburyport Five Cents Saving Bank\, 63State Street.&nbsp\; Enter down the stairs to the left of the front entrance.<BR><FONT color=#ff0000>* Please do not park in the bank parking lot.&nbsp\; There is plenty of room on State Street and the municipal lot next to the library.</FONT></STRONG></SPAN></FONT></P></SPAN></FONT>
LOCATION:Newburyport Five Cents Savings Bank
UID:e.1189.1395
SEQUENCE:3
DTSTAMP:20260421T114041Z
URL:https://business.newburyportchamber.org/events/details/seminar-increasing-revenues-through-effective-sales-process-01-20-2010-1395
END:VEVENT

END:VCALENDAR
