BEGIN:VCALENDAR
VERSION:2.0
PRODID:-//ChamberMaster//Event Calendar 2.0//EN
METHOD:PUBLISH
X-PUBLISHED-TTL:P3D
REFRESH-INTERVAL:P3D
CALSCALE:GREGORIAN
BEGIN:VEVENT
DTSTART:20110920T123000Z
DTEND:20110920T143000Z
X-MICROSOFT-CDO-ALLDAYEVENT:FALSE
SUMMARY:Seminar at Newburyport Cleantech Center\, Inc.
DESCRIPTION:Succeeding in the Global Economy\n\n	 Resources to Help You Expand Your Business Internationally\n\n	  \n\n	 Would you like to expand your business internationally? \n\n	  \n\n	Have you had some international inquiries\, but weren't sure how to handle them? \n\n	  \n\n	Or\, do you have some international sales\, but wish that you could find a way to increase them? \n\n	 \n\n	 Federal and state governments offer a broad range of programs available to help small businesses with their international sales efforts. Services for exporters range from day-to-day operational export assistance to an in-depth support of the overseas sales and marketing efforts. In addition\, the program will cover export financing programs available through the US Small Business Administration.  \n\n	 \n\n	Following the presentations\, the participants will have the opportunity to participate in a Q & A session and meet with the speakers and discuss their specific export needs and challenges. \n\n	 \n\n	Speakers include:\n\n	 \n\n	Marie Hladikova\, Trade Services Manager\n\n	Massachusetts Export Center\n\n	 \n\n	Ken Brown\, Director (TBC)\n\n	Massachusetts Office of International Trade and Investment\n\n	 \n\n	Michelle Ouellette\, Senior International Trade Specialist\n\n	U.S. Department of Commerce\, U.S. Commercial Service\n\n	 \n\n	John Joyce\, International Trade and Finance Manager (TBC)\n\n	U.S. Small Business Administration\n\n	 \n\n	Alvaro Alamillo\, VP\, International Banking \n\n	Sovereign Bank\n\n	 \n\n	Roger Foster\, President\n\n	Cenostar Corporation\n\n	\n		\n			\n				Additional Subject Matter Experts available at the seminar include:\n\n				Bud Siciliano - Insurance\n\n				Steve DeGuglielmo - Tax\n\n				Donna Swanson - Banking\n\n				 \n		\n	\n\n\n	\n		\n			\n				Please RSVP by\n\n				September 9th\, 2011 to: info@newburyportcleantech   .com\n\n				 or\n\n				 978-358-5802\n\n				 Please Provide:\n\n				Name\, Title\, and Organization Name\n		\n	\n\n\n	 \n\n	\n		\n			\n				\n					 \n			\n		\n	\n\n\n	 \n\n	\n		\n			\n				Newburyport CleanTech Center\n\n				10 Mulliken Way\n\n				Newburyport\, MA 01950\n		\n	\n\n\n	If you would like to sponsor this event\, please contact us at the above number.
X-ALT-DESC;FMTTYPE=text/html:<p style="margin: 0in 0in 0pt">\n	&nbsp\;</p>\n<p style="margin: 0in 0in 0pt">\n	<span style="font-size: 11px"><span style="color: #7f7f7f\; font-family: 'trebuchet ms'\,'sans-serif'">&nbsp\;</span><em><span style="color: #1d7baa\; font-family: 'trebuchet ms'\,'sans-serif'">Succeeding in the Global Economy</span></em></span></p>\n<p style="margin: 0in 0in 0pt">\n	<span style="font-size: 11px"><em><span style="color: #1d7baa\; font-family: 'trebuchet ms'\,'sans-serif'">&nbsp\;Resources to Help You Expand Your Business Internationally</span></em></span></p>\n<p style="margin: 0in 0in 0pt">\n	<span style="font-size: 11px"><span style="color: #1d7baa\; font-family: 'trebuchet ms'\,'sans-serif'">&nbsp\;&nbsp\;</span></span></p>\n<p style="margin: 0in 0in 0pt">\n	<span style="font-size: 11px"><span style="color: #1d7baa\; font-family: 'trebuchet ms'\,'sans-serif'">&nbsp\;</span><em><span style="color: #1d7baa\; font-family: 'trebuchet ms'\,'sans-serif'">Would you like to expand your business internationally? </span></em></span></p>\n<p style="margin: 0in 0in 0pt">\n	<span style="font-size: 11px"><span style="color: #1d7baa\; font-family: 'trebuchet ms'\,'sans-serif'">&nbsp\;&nbsp\;</span></span></p>\n<p style="margin: 0in 0in 0pt">\n	<span style="font-size: 11px"><em><span style="color: #1d7baa\; font-family: 'trebuchet ms'\,'sans-serif'">Have you had some international inquiries\, but weren&rsquo\;t sure how to handle them? </span></em></span></p>\n<p style="margin: 0in 0in 0pt">\n	<span style="font-size: 11px"><span style="color: #1d7baa\; font-family: 'trebuchet ms'\,'sans-serif'">&nbsp\;&nbsp\;</span></span></p>\n<p style="margin: 0in 0in 0pt">\n	<span style="font-size: 11px"><em><span style="color: #1d7baa\; font-family: 'trebuchet ms'\,'sans-serif'">Or\, do you have some international sales\, but wish that you could find a way to increase them? </span></em></span></p>\n<p style="margin: 0in 0in 0pt">\n	<span style="font-size: 11px"><span style="color: #1d7baa\; font-family: 'trebuchet ms'\,'sans-serif'">&nbsp\;</span></span></p>\n<p style="margin: 0in 0in 0pt">\n	<span style="font-size: 11px"><em><span style="color: #1d7baa\; font-family: 'trebuchet ms'\,'sans-serif'">&nbsp\;Federal and state governments offer a broad range of programs available to help small businesses with their international sales efforts. Services for exporters range from day-to-day operational export assistance to an in-depth support of the overseas sales and marketing efforts. In addition\, the program will cover export financing programs available through the US Small Business Administration.&nbsp\; </span></em></span></p>\n<p style="margin: 0in 0in 0pt">\n	<span style="font-size: 11px"><span style="color: #1d7baa\; font-family: 'trebuchet ms'\,'sans-serif'">&nbsp\;</span></span></p>\n<p style="margin: 0in 0in 0pt">\n	<span style="font-size: 11px"><em><span style="color: #1d7baa\; font-family: 'trebuchet ms'\,'sans-serif'">Following the presentations\, the participants will have the opportunity to participate in a Q &amp\; A session and meet with the speakers and discuss their specific export needs and challenges. </span></em></span></p>\n<p style="margin: 0in 0in 0pt">\n	<span style="font-size: 11px"><span style="color: #1d7baa\; font-family: 'trebuchet ms'\,'sans-serif'">&nbsp\;</span></span></p>\n<p style="margin: 0in 0in 0pt">\n	<span style="font-size: 11px"><em><span style="color: #1d7baa\; font-family: 'trebuchet ms'\,'sans-serif'">Speakers include:</span></em></span></p>\n<p style="margin: 0in 0in 0pt">\n	<span style="font-size: 11px"><span style="color: #1d7baa\; font-family: 'trebuchet ms'\,'sans-serif'">&nbsp\;</span></span></p>\n<p style="margin: 0in 0in 0pt">\n	<span style="font-size: 11px"><span style="color: #1d7baa\; font-family: 'trebuchet ms'\,'sans-serif'">Marie Hladikova\, Trade Services Manager</span></span></p>\n<p style="margin: 0in 0in 0pt">\n	<span style="font-size: 11px"><em><span style="color: #1d7baa\; font-family: 'trebuchet ms'\,'sans-serif'">Massachusetts Export Center</span></em></span></p>\n<p style="margin: 0in 0in 0pt">\n	<span style="font-size: 11px"><span style="color: #1d7baa\; font-family: 'trebuchet ms'\,'sans-serif'">&nbsp\;</span></span></p>\n<p style="margin: 0in 0in 0pt">\n	<span style="font-size: 11px"><span style="color: #1d7baa\; font-family: 'trebuchet ms'\,'sans-serif'">Ken Brown\, Director (TBC)</span></span></p>\n<p style="margin: 0in 0in 0pt">\n	<span style="font-size: 11px"><em><span style="color: #1d7baa\; font-family: 'trebuchet ms'\,'sans-serif'">Massachusetts Office of International Trade and Investment</span></em></span></p>\n<p style="margin: 0in 0in 0pt">\n	<span style="font-size: 11px"><span style="color: #1d7baa\; font-family: 'trebuchet ms'\,'sans-serif'">&nbsp\;</span></span></p>\n<p style="margin: 0in 0in 0pt">\n	<span style="font-size: 11px"><span style="color: #1d7baa\; font-family: 'trebuchet ms'\,'sans-serif'">Michelle Ouellette\, Senior International Trade Specialist</span></span></p>\n<p style="margin: 0in 0in 0pt">\n	<span style="font-size: 11px"><em><span style="color: #1d7baa\; font-family: 'trebuchet ms'\,'sans-serif'">U.S. Department of Commerce\, U.S. Commercial Service</span></em></span></p>\n<p style="margin: 0in 0in 0pt">\n	<span style="font-size: 11px"><span style="color: #1d7baa\; font-family: 'trebuchet ms'\,'sans-serif'">&nbsp\;</span></span></p>\n<p style="margin: 0in 0in 0pt">\n	<span style="font-size: 11px"><span style="color: #1d7baa\; font-family: 'trebuchet ms'\,'sans-serif'">John Joyce\, International Trade and Finance Manager (TBC)</span></span></p>\n<p style="margin: 0in 0in 0pt">\n	<span style="font-size: 11px"><em><span style="color: #1d7baa\; font-family: 'trebuchet ms'\,'sans-serif'">U.S. Small Business Administration</span></em></span></p>\n<p style="margin: 0in 0in 0pt">\n	<span style="font-size: 11px"><span style="color: #1d7baa\; font-family: 'trebuchet ms'\,'sans-serif'">&nbsp\;</span></span></p>\n<p style="margin: 0in 0in 0pt">\n	<span style="font-size: 11px"><span style="color: #1d7baa\; font-family: 'trebuchet ms'\,'sans-serif'">Alvaro Alamillo\, VP\, International Banking&nbsp\;</span></span></p>\n<p style="margin: 0in 0in 0pt">\n	<span style="font-size: 11px"><em><span style="color: #1d7baa\; font-family: 'trebuchet ms'\,'sans-serif'">Sovereign Bank</span></em></span></p>\n<p style="margin: 0in 0in 0pt">\n	<span style="font-size: 11px"><span style="color: #1d7baa\; font-family: 'trebuchet ms'\,'sans-serif'">&nbsp\;</span></span></p>\n<p style="margin: 0in 0in 0pt">\n	<span style="font-size: 11px"><span style="color: #1d7baa\; font-family: 'trebuchet ms'\,'sans-serif'">Roger Foster\, President</span></span></p>\n<p style="margin: 0in 0in 0pt">\n	<span style="font-size: 11px"><em><span style="color: #1d7baa\; font-family: 'trebuchet ms'\,'sans-serif'">Cenostar Corporation</span></em></span></p>\n<table border="0" cellpadding="0" cellspacing="0" style="width: 100%\; word-wrap: break-word" width="100%">\n	<tbody>\n		<tr>\n			<td style="padding-right: 0in\; padding-left: 0in\; padding-bottom: 0in\; padding-top: 0in">\n				<span style="font-size: 11px"><em><span style="color: #1d7baa\; font-family: 'trebuchet ms'\,'sans-serif'"><strong><span style="font-family: trebuchet ms\,sans-serif"><span style="color: #7f7f7f"><span style="font-size: 9pt">Additional Subject Matter Experts available at the seminar include:</span></span></span></strong><br />\n				<span style="font-family: trebuchet ms\,sans-serif"><span style="color: #7f7f7f"><span style="font-size: 9pt">Bud Siciliano - Insurance</span></span></span><br />\n				<span style="font-family: trebuchet ms\,sans-serif"><span style="color: #7f7f7f"><span style="font-size: 9pt">Steve DeGuglielmo - Tax</span></span></span><br />\n				<span style="font-family: trebuchet ms\,sans-serif"><span style="color: #7f7f7f"><span style="font-size: 9pt">Donna Swanson - Banking</span></span></span><br />\n				&nbsp\;</span></em></span></td>\n		</tr>\n	</tbody>\n</table>\n<table border="0" cellpadding="0" cellspacing="0" style="width: 100%" width="100%">\n	<tbody>\n		<tr>\n			<td style="padding-right: 0in\; padding-left: 0in\; padding-bottom: 0in\; padding-top: 0in">\n				<span style="font-size: 11px"><em><span style="color: #1d7baa\; font-family: 'trebuchet ms'\,'sans-serif'"><span style="font-family: trebuchet ms\,sans-serif"><span style="color: black"><span style="font-size: 9pt">Please RSVP by</span></span></span><br />\n				<span style="font-family: trebuchet ms\,sans-serif"><span style="color: black"><span style="font-size: 9pt">September 9th\, 2011 to: <a href="mailto:info@newburyportcleantech.com"><span style="color: #55aadd">info@newburyportcleantech&nbsp\;&nbsp\; .com</span></a></span></span></span><br />\n				&nbsp\;<span style="font-family: trebuchet ms\,sans-serif"><span style="color: black"><span style="font-size: 8.5pt">or</span></span></span><br />\n				&nbsp\;<span style="font-family: trebuchet ms\,sans-serif"><span style="color: black"><span style="font-size: 9pt">978-358-5802</span></span></span><br />\n				&nbsp\;<span style="font-family: trebuchet ms\,sans-serif"><span style="color: black"><span style="font-size: 9pt">Please Provide:</span></span></span><br />\n				<span style="font-family: trebuchet ms\,sans-serif"><span style="color: black"><span style="font-size: 9pt">Name\, Title\, and Organization Name</span></span></span></span></em></span></td>\n		</tr>\n	</tbody>\n</table>\n<div>\n	<span style="font-size: 11px"><em><span style="color: #1d7baa\; font-family: 'trebuchet ms'\,'sans-serif'">&nbsp\;</span></em></span><br />\n	<table border="0" cellpadding="0" cellspacing="0" style="width: 100%\; word-wrap: break-word" width="100%">\n		<tbody>\n			<tr>\n				<td style="padding-right: 0in\; padding-left: 0in\; padding-bottom: 0in\; padding-top: 0in">\n					&nbsp\;</td>\n			</tr>\n		</tbody>\n	</table>\n</div>\n<p style="margin: 0in 0in 0pt">\n	&nbsp\;</p>\n<table border="0" cellpadding="0" cellspacing="0" style="width: 100%" width="100%">\n	<tbody>\n		<tr>\n			<td style="padding-right: 0in\; padding-left: 0in\; padding-bottom: 0in\; padding-top: 0in">\n				<span style="font-size: 11px"><em><span style="color: #1d7baa\; font-family: 'trebuchet ms'\,'sans-serif'"><span style="font-family: trebuchet ms\,sans-serif"><span style="color: black"><span style="font-size: 8.5pt">Newburyport CleanTech Center</span></span></span><br />\n				<span style="font-family: trebuchet ms\,sans-serif"><span style="color: black"><span style="font-size: 9pt">10 Mulliken Way</span></span></span><br />\n				<span style="font-family: trebuchet ms\,sans-serif"><span style="color: black"><span style="font-size: 9pt">Newburyport\, MA 01950</span></span></span></span></em></span></td>\n		</tr>\n	</tbody>\n</table>\n<p style="margin: 0in 0in 0pt">\n	<span style="font-size: 9pt\; color: #1d7baa\; font-family: 'trebuchet ms'\,'sans-serif'">If you would like to sponsor this event\, please contact us at the above number.</span><o:p></o:p></p>\n
LOCATION:
UID:e.1189.2120
SEQUENCE:3
DTSTAMP:20260419T230046Z
URL:https://business.newburyportchamber.org/events/details/seminar-at-newburyport-cleantech-center-inc-09-20-2011-2120
END:VEVENT

END:VCALENDAR
