BEGIN:VCALENDAR
VERSION:2.0
PRODID:-//ChamberMaster//Event Calendar 2.0//EN
METHOD:PUBLISH
X-PUBLISHED-TTL:P3D
REFRESH-INTERVAL:P3D
CALSCALE:GREGORIAN
BEGIN:VEVENT
DTSTART:20111020T000000Z
DTEND:20111020T020000Z
X-MICROSOFT-CDO-ALLDAYEVENT:FALSE
SUMMARY:Seminar Announcement
DESCRIPTION:One Stop Energy Cost Savings Opportunities!\n\n  \n\nLearn More about existing technologies that can benefit your business now and in the future.\n\nUtility cost reduction topics will include:\n\nLighting Upgrades - Superior Energy\, Inc.\n\nEquipment Energy Optimization - Magniture\, Inc.\n\nWater Conservation - Conservation Solutions\, Inc.\n\nAll programs include:\n\n - Obtaining Utility Rebates\n\n - 0% Interest Loans\n\nFollowing the presentations\, participants can meet the speakers to discuss their specific needs and challenges\n\n  \n\nReminder\, Space is Limited!\n\n \n\nPlease reserve your space today.\n\n\n	Please RSVP by\n\n	October 14\, 2011 to: mailto:info@newburyportcleantech.com\n\n	Continental Breakfast\n\n	 or\n\n	 978-358-5802\n\n	 Please Provide:\n\n	Name\, Title\, and Organization Name\n\n	\n\n	\n		\n			\n				If you would like to sponsor this event\, please contact us at the above number.
X-ALT-DESC;FMTTYPE=text/html:<span style="font-size: 14px"><strong><u><span style="font-family: trebuchet ms\,sans-serif"><span style="color: #1d7baa">One Stop Energy Cost Savings Opportunities!</span></span></u></strong></span><br />\n&nbsp\;&nbsp\;<br />\n<span style="font-size: 14px"><strong><span style="font-family: trebuchet ms\,sans-serif"><span style="color: #1d7baa">Learn More about existing technologies that can benefit your business now and in the future.</span></span></strong><br />\n<strong><span style="font-family: trebuchet ms\,sans-serif"><span style="color: #1d7baa">Utility cost reduction topics will include:</span></span></strong><br />\n<strong><span style="font-family: trebuchet ms\,sans-serif"><span style="color: #1d7baa">Lighting Upgrades - Superior Energy\, Inc.</span></span></strong><br />\n<strong><span style="font-family: trebuchet ms\,sans-serif"><span style="color: #1d7baa">Equipment Energy Optimization - Magniture\, Inc.</span></span></strong><br />\n<strong><span style="font-family: trebuchet ms\,sans-serif"><span style="color: #1d7baa">Water Conservation - Conservation Solutions\, Inc.</span></span></strong><br />\n<strong><span style="font-family: trebuchet ms\,sans-serif"><span style="color: #1d7baa">All programs include:</span></span></strong><br />\n<strong><span style="font-family: trebuchet ms\,sans-serif"><span style="color: #1d7baa">&nbsp\;- Obtaining Utility Rebates</span></span></strong><br />\n<strong><span style="font-family: trebuchet ms\,sans-serif"><span style="color: #1d7baa">&nbsp\;- 0% Interest Loans</span></span></strong><br />\n<strong><span style="font-family: trebuchet ms\,sans-serif"><span style="color: #1d7baa">Following the presentations\, participants can meet the speakers to discuss their specific needs and challenges</span></span></strong><br />\n&nbsp\;&nbsp\;<br />\n<strong><u><span style="font-family: trebuchet ms\,sans-serif"><span style="color: #1d7baa">Reminder\, Space is Limited!</span></span></u></strong><br />\n&nbsp\;<br />\n<strong><u><span style="font-family: trebuchet ms\,sans-serif"><span style="color: #1d7baa">Please reserve your space&nbsp\;today.</span></span></u></strong></span><br />\n<p align="center" style="margin: 0in 0in 0pt\; text-align: center">\n	<span style="font-size: 14px"><span style="color: black\; font-family: 'trebuchet ms'\,'sans-serif'">Please RSVP by</span></span><span style="font-size: 9pt\; color: #7f7f7f\; font-family: 'trebuchet ms'\,'sans-serif'"><o:p></o:p></span></p>\n<p align="center" style="margin: 0in 0in 0pt\; text-align: center">\n	<span style="font-size: 14px"><span style="color: black\; font-family: 'trebuchet ms'\,'sans-serif'">October&nbsp\;14\, 2011 to: <a href="mailto:info@newburyportcleantech.com"><span style="color: #55aadd">mailto:info@newburyportcleantech.com</span></a></span></span><span style="font-size: 9pt\; color: #7f7f7f\; font-family: 'trebuchet ms'\,'sans-serif'"><o:p></o:p></span></p>\n<p align="center" style="margin: 0in 0in 0pt\; text-align: center">\n	<span style="font-size: 14px"><span style="color: black\; font-family: 'trebuchet ms'\,'sans-serif'">Continental Breakfast</span></span><span style="font-size: 9pt\; color: #7f7f7f\; font-family: 'trebuchet ms'\,'sans-serif'"><o:p></o:p></span></p>\n<p align="center" style="margin: 0in 0in 0pt\; text-align: center">\n	<span style="font-size: 14px"><span style="color: #7f7f7f\; font-family: 'trebuchet ms'\,'sans-serif'">&nbsp\;<span style="font-size: 8.5pt\; color: black\; font-family: 'trebuchet ms'\,'sans-serif'">or</span><span style="font-size: 9pt\; color: #7f7f7f\; font-family: 'trebuchet ms'\,'sans-serif'"><o:p></o:p></span></span></span></p>\n<p align="center" style="margin: 0in 0in 0pt\; text-align: center">\n	<span style="font-size: 14px"><span style="color: #7f7f7f\; font-family: 'trebuchet ms'\,'sans-serif'"><span style="font-size: 9pt\; color: #7f7f7f\; font-family: 'trebuchet ms'\,'sans-serif'">&nbsp\;</span><span style="font-size: 9pt\; color: black\; font-family: 'trebuchet ms'\,'sans-serif'">978-358-5802</span><span style="font-size: 9pt\; color: #7f7f7f\; font-family: 'trebuchet ms'\,'sans-serif'"><o:p></o:p></span></span></span></p>\n<p align="center" style="margin: 0in 0in 0pt\; text-align: center">\n	<span style="font-size: 14px"><span style="color: #7f7f7f\; font-family: 'trebuchet ms'\,'sans-serif'"><span style="font-size: 9pt\; color: #7f7f7f\; font-family: 'trebuchet ms'\,'sans-serif'">&nbsp\;</span><span style="font-size: 9pt\; color: black\; font-family: 'trebuchet ms'\,'sans-serif'">Please Provide:</span><span style="font-size: 9pt\; color: #7f7f7f\; font-family: 'trebuchet ms'\,'sans-serif'"><o:p></o:p></span></span></span></p>\n<p align="center" style="margin: 0in 0in 0pt\; text-align: center">\n	<span style="font-size: 14px"><span style="color: #7f7f7f\; font-family: 'trebuchet ms'\,'sans-serif'"><span style="font-size: 9pt\; color: black\; font-family: 'trebuchet ms'\,'sans-serif'">Name\, Title\, and Organization Name<br />\n	</span></span></span></p>\n<table border="0" cellpadding="0" cellspacing="0" style="width: 100%" width="100%">\n	<tbody>\n		<tr>\n			<td style="padding-right: 0in\; padding-left: 0in\; padding-bottom: 0in\; padding-top: 0in">\n				<span style="font-size: 14px"><span style="color: #7f7f7f\; font-family: 'trebuchet ms'\,'sans-serif'"><span style="font-size: 9pt\; color: black\; font-family: 'trebuchet ms'\,'sans-serif'"><span style="font-family: trebuchet ms\,sans-serif"><span style="color: #1d7baa"><span style="font-size: 9pt">If you would like to sponsor this event\, please contact us at the above number.</span></span></span></span></span></span></td>\n		</tr>\n	</tbody>\n</table>\n<p align="center" style="margin: 0in 0in 0pt\; text-align: center">\n	<span style="font-size: 9pt\; color: #7f7f7f\; font-family: 'trebuchet ms'\,'sans-serif'"><o:p></o:p></span></p>\n
LOCATION:Newburyport CleanTech Center 10 Mulliken Way Newburyport\, MA 01950
UID:e.1189.2307
SEQUENCE:3
DTSTAMP:20260419T191413Z
URL:https://business.newburyportchamber.org/events/details/seminar-announcement-10-19-2011-2307
END:VEVENT

END:VCALENDAR
