BEGIN:VCALENDAR
VERSION:2.0
PRODID:-//ChamberMaster//Event Calendar 2.0//EN
METHOD:PUBLISH
X-PUBLISHED-TTL:P3D
REFRESH-INTERVAL:P3D
CALSCALE:GREGORIAN
BEGIN:VEVENT
DTSTART:20091119T050000Z
DTEND:20091119T050000Z
X-MICROSOFT-CDO-ALLDAYEVENT:FALSE
SUMMARY:Seacoast Business & Green Expo (and Mixer)
DESCRIPTION:Join us at the Seacoast Business and Green Expo! This expo/mixer combination event is the Chamber's premier networking event. It will provide an invaluable opportunity to showcase YOUR business and reach key business contacts. Expo - 11:00 AM to 5:00 PMNetworking Mixer - 5:30 PM to 7:00 PM To visit the EXPO webpage\, click HERE! Lead Sponsors: Chase & Lunt InsuranceComcast Business ClassThe Newburyport Five Cents Savings Bank
X-ALT-DESC;FMTTYPE=text/html:<DIV><DIV><FONT face=Arial size=2><P class=MsoNormal style="MARGIN: 0in 0in 0pt"><SPAN style="FONT-SIZE: 10pt\; FONT-FAMILY: Arial">Join us at the Seacoast Business and Green Expo!&nbsp\;</SPAN><SPAN style="FONT-SIZE: 10pt\; FONT-FAMILY: Arial">This expo/mixer combination event is the Chamber's premier networking event. It will provide an invaluable opportunity to showcase YOUR business and reach key business contacts.</SPAN></P></FONT></DIV><DIV><FONT face=Arial size=2></FONT>&nbsp\;</DIV><DIV><FONT face=Arial size=2><SPAN style="FONT-SIZE: 10pt\; FONT-FAMILY: Arial">Expo - 11:00 AM to 5:00 PM</SPAN></FONT></DIV><DIV><FONT face=Arial size=2><SPAN style="FONT-SIZE: 10pt\; FONT-FAMILY: Arial">Networking Mixer - 5:30 PM to 7:00 PM</SPAN></DIV></DIV></FONT><DIV><FONT face=Arial size=2></FONT>&nbsp\;</DIV><DIV><FONT face=Arial size=2>To visit the EXPO webpage\, click <A dataFld=0:0 title="" style="COLOR: blue\; TEXT-DECORATION: underline" href="http://www.newburyportchamber.org/business_expo2009.shtml" target=_NewWindow>HERE</A>!</FONT></DIV><DIV><FONT face=Arial size=2></FONT>&nbsp\;</DIV><DIV><DIV><FONT face=Arial size=2><STRONG>Lead Sponsors</STRONG>:</FONT></DIV><DIV><FONT face=Arial size=2></FONT>&nbsp\;</DIV><DIV><FONT face=Arial size=2><A dataFld=0:0 title="" style="COLOR: blue\; TEXT-DECORATION: underline" href="http://www.chaseandlunt.com/" target=_NewWindow>Chase &amp\; Lunt Insurance</A></FONT></DIV><DIV><FONT face=Arial size=2><A dataFld=0:0 title="" style="COLOR: blue\; TEXT-DECORATION: underline" href="http://business.comcast.com/" target=_NewWindow>Comcast Business Class</A></FONT></DIV><DIV><FONT face=Arial size=2><A dataFld=0:0 title="" style="COLOR: blue\; TEXT-DECORATION: underline" href="https://www.newburyportbank.com/home/home" target=_NewWindow>The Newburyport Five Cents Savings Bank</A></FONT></DIV></DIV>
LOCATION:Tupelo Music Hall at the Pavilion on Salisbury Beach
UID:e.1189.1328
SEQUENCE:3
DTSTAMP:20260421T170226Z
URL:https://business.newburyportchamber.org/events/details/seacoast-business-green-expo-and-mixer-11-19-2009-1328
END:VEVENT

END:VCALENDAR
