BEGIN:VCALENDAR
VERSION:2.0
PRODID:-//ChamberMaster//Event Calendar 2.0//EN
METHOD:PUBLISH
X-PUBLISHED-TTL:P3D
REFRESH-INTERVAL:P3D
CALSCALE:GREGORIAN
BEGIN:VEVENT
DTSTART:20111001T213000Z
DTEND:20111002T030000Z
X-MICROSOFT-CDO-ALLDAYEVENT:FALSE
SUMMARY:Scavengers needed on Saturday\, October 1
DESCRIPTION:The Newbury Elementary School PTA is looking for teams to compete in the second annual Downtown Newburyport Scavenger Hunt. On Saturday\, Oct. 1\, 5:30-11 pm\, teams of 2-6 people will set out from Nicholson Hall to scavenge the town to collect memorabilia\, identify landmarks\, and answer downtown trivia questions. There will be wine tasting\, nibbles\, and surprises along the way as many stores remain open late.\n\n	 \n\n	Upon completion of the scavenger hunt participants will return to Nicholson Hall with their completed scavenger hunt forms and collected items to enjoy appetizers\, a cash bar\, great music\, raffles\, a silent auction\, and fabulous prizes for the winning team.
X-ALT-DESC;FMTTYPE=text/html:<div>\n	<span style="font-family: times new roman"><span style="color: #333333">The Newbury Elementary School PTA is looking for teams to compete in the second annual Downtown Newburyport Scavenger Hunt. On Saturday\, Oct. 1\, 5:30-11 pm\, teams of 2-6 people will set out from Nicholson Hall to scavenge the town to collect memorabilia\, identify landmarks\, and answer downtown trivia questions. There will be wine tasting\, nibbles\, and surprises along the way as many stores remain open late.</span></span></div>\n<div>\n	&nbsp\;</div>\n<div>\n	<span style="font-family: times new roman"><span style="color: #333333">Upon completion of the scavenger hunt participants will return to Nicholson Hall with their completed scavenger hunt forms and collected items to enjoy appetizers\, a cash bar\, great music\, raffles\, a silent auction\, and fabulous prizes for the winning team.</span></span></div>\n
LOCATION:
UID:e.1189.2251
SEQUENCE:3
DTSTAMP:20260419T191550Z
URL:https://business.newburyportchamber.org/events/details/scavengers-needed-on-saturday-october-1-10-01-2011-2251
END:VEVENT

END:VCALENDAR
