BEGIN:VCALENDAR
VERSION:2.0
PRODID:-//ChamberMaster//Event Calendar 2.0//EN
METHOD:PUBLISH
X-PUBLISHED-TTL:P3D
REFRESH-INTERVAL:P3D
CALSCALE:GREGORIAN
BEGIN:VEVENT
DTSTART;VALUE=DATE:20110616
DTEND;VALUE=DATE:20110617
TRANSP:TRANSPARENT
X-MICROSOFT-CDO-ALLDAYEVENT:TRUE
SUMMARY:Scamper Camp Open House
DESCRIPTION:CAMPER CAMP OPEN HOUSE YWCA GREATER NEWBURYPORT THURSDAY JUNE 16 6:00 pm Meet the staff and see what activities and fun times await your preschooler this summer! SCAMPER CAMP: a splashin'\, singin'\, shakin' summer experience for 3-5 year olds!
X-ALT-DESC;FMTTYPE=text/html:CAMPER CAMP OPEN HOUSE YWCA GREATER NEWBURYPORT THURSDAY JUNE 16 6:00 pm Meet the staff and see what activities and fun times await your preschooler this summer! SCAMPER CAMP: a splashin&rsquo\;\, singin&rsquo\;\, shakin&rsquo\; summer experience for 3-5 year olds!
LOCATION:YWCA 13 Market Street Newburyport (978) 465-0981
UID:e.1189.1872
SEQUENCE:3
DTSTAMP:20260420T015722Z
URL:https://business.newburyportchamber.org/events/details/scamper-camp-open-house-06-16-2011-1872
END:VEVENT

END:VCALENDAR
