BEGIN:VCALENDAR
VERSION:2.0
PRODID:-//ChamberMaster//Event Calendar 2.0//EN
METHOD:PUBLISH
X-PUBLISHED-TTL:P3D
REFRESH-INTERVAL:P3D
CALSCALE:GREGORIAN
BEGIN:VEVENT
DTSTART:20111203T160000Z
DTEND:20111203T190000Z
X-MICROSOFT-CDO-ALLDAYEVENT:FALSE
SUMMARY:Santa's Workshop
DESCRIPTION:Bring the kids down to Inn Street in Downtown Newburyport where they can meet Santa\, share their wish list\, and get their very own photo taken with Mr. C! Then enjoy strolling around the beautiful downtown area - a great way to spend a weekend day with the family during the holiday season.\n\n		\n\n		Click Here for Holiday Activities Poster.
X-ALT-DESC;FMTTYPE=text/html:<div>\n	<p align="left">\n		<span style="font-size: 12px"><span style="font-family: 'century gothic'">Bring the kids down to Inn Street in Downtown Newburyport where they can meet Santa\, share their wish list\, and get their very own photo taken with Mr. C! Then enjoy strolling around the beautiful downtown area - a great way to spend a weekend day with the family during the holiday season.<br />\n		<br />\n		<a href="http://www.newburyportchamber.org/files/1009.pdf" target="_blank"><strong><font face="Century Gothic" size="2">Click Here</font></strong></a><font size="2"><font face="Century Gothic"> for Holiday Activities Poster.<span _fck_bookmark="1" style="display: none">&nbsp\;</span></font></font></span></span><br />\n		<br />\n		<br />\n		&nbsp\;</p>\n</div>\n
LOCATION:Inn Street\, Downtown Newburyport
UID:e.1189.1952
SEQUENCE:3
DTSTAMP:20260419T154820Z
URL:https://business.newburyportchamber.org/events/details/santa-s-workshop-12-03-2011-1952
END:VEVENT

END:VCALENDAR
