BEGIN:VCALENDAR
VERSION:2.0
PRODID:-//ChamberMaster//Event Calendar 2.0//EN
METHOD:PUBLISH
X-PUBLISHED-TTL:P3D
REFRESH-INTERVAL:P3D
CALSCALE:GREGORIAN
BEGIN:VEVENT
DTSTART:20111127T211500Z
DTEND:20111127T223000Z
X-MICROSOFT-CDO-ALLDAYEVENT:FALSE
SUMMARY:Santa Parade & Tree Lighting
DESCRIPTION:A Newburyport tradition!\n\n	\n\n	As the holiday season approaches\, Santa & Mrs. Claus arrive in the most fitting way for this seaport town... by US Coast Guard boat!  Welcome Santa on the Sunday after Thanksgiving as he and Mrs. Claus dock at the boardwalk and begin to parade through downtown Newburyport\, then gather in Market Square for the annual Christmas tree lighting and carols.\n\n	\n\n	Click Here for Holiday Activities Poster.
X-ALT-DESC;FMTTYPE=text/html:<font face="Verdana" size="1">&nbsp\;</font>\n<p style="font-family: 'century gothic'">\n	<font size="2">A Newburyport tradition!</font><br />\n	<br />\n	<font size="2">As the holiday season approaches\, Santa&nbsp\;&amp\; Mrs. Claus arrive in the most fitting way for this seaport town... by US Coast Guard boat!&nbsp\; Welcome Santa on the Sunday after Thanksgiving as he and Mrs. Claus dock at the boardwalk and begin to&nbsp\;parade through downtown Newburyport\, then gather in Market Square for the annual Christmas tree lighting and carols.<br />\n	<br />\n	<a href="http://www.newburyportchamber.org/files/1009.pdf" target="_blank"><strong><font size="2">Click Here</font></strong></a><font size="2"> for Holiday Activities Poster.</font></font></p>\n
LOCATION:Market Square Newburyport\, MA
UID:e.1189.1878
SEQUENCE:3
DTSTAMP:20260419T172512Z
URL:https://business.newburyportchamber.org/events/details/santa-parade-tree-lighting-11-27-2011-1878
END:VEVENT

END:VCALENDAR
