BEGIN:VCALENDAR
VERSION:2.0
PRODID:-//ChamberMaster//Event Calendar 2.0//EN
METHOD:PUBLISH
X-PUBLISHED-TTL:P3D
REFRESH-INTERVAL:P3D
CALSCALE:GREGORIAN
BEGIN:VEVENT
DTSTART:20110626T140000Z
DTEND:20110626T220000Z
X-MICROSOFT-CDO-ALLDAYEVENT:FALSE
SUMMARY:Sand & Sea Festival: Catch A Wave!
DESCRIPTION:Sand & Sea family fun continues today Free-face painting\, games\, pizza eating contest\, Segeay rides\,Sea Life Discovery Center and much more
X-ALT-DESC;FMTTYPE=text/html:Sand &amp\; Sea family fun continues today Free-face painting\, games\, pizza eating contest\, Segeay rides\,Sea Life Discovery Center and much more
LOCATION:Salisbury Beach Center Broadway Salisbury 978-462-7274
UID:e.1189.1947
SEQUENCE:3
DTSTAMP:20260420T040417Z
URL:https://business.newburyportchamber.org/events/details/sand-sea-festival-catch-a-wave-06-26-2011-1947
END:VEVENT

END:VCALENDAR
