BEGIN:VCALENDAR
VERSION:2.0
PRODID:-//ChamberMaster//Event Calendar 2.0//EN
METHOD:PUBLISH
X-PUBLISHED-TTL:P3D
REFRESH-INTERVAL:P3D
CALSCALE:GREGORIAN
BEGIN:VEVENT
DTSTART:20110625T140000Z
DTEND:20110626T020000Z
X-MICROSOFT-CDO-ALLDAYEVENT:FALSE
SUMMARY:Sand & Sea Festival
DESCRIPTION:Family Fun All Day Long! FREE Face Painting - Sand Sculptures- 5th Annual Pet Parade - Sea Life Discovery Ctr - Pizza Eating Contest - FREE All Day Entertainment - Fireworks - Free Concert- Much More
X-ALT-DESC;FMTTYPE=text/html:Family Fun All Day Long! FREE Face Painting - Sand Sculptures- 5th Annual Pet Parade - Sea Life Discovery Ctr - Pizza Eating Contest - FREE All Day Entertainment - Fireworks - Free Concert- Much More
LOCATION:Salisbury Beach Center Broadway Salisbury 978-462-7274
UID:e.1189.1934
SEQUENCE:3
DTSTAMP:20260420T021541Z
URL:https://business.newburyportchamber.org/events/details/sand-sea-festival-06-25-2011-1934
END:VEVENT

END:VCALENDAR
