BEGIN:VCALENDAR
VERSION:2.0
PRODID:-//ChamberMaster//Event Calendar 2.0//EN
METHOD:PUBLISH
X-PUBLISHED-TTL:P3D
REFRESH-INTERVAL:P3D
CALSCALE:GREGORIAN
BEGIN:VEVENT
DTSTART;VALUE=DATE:20110719
DTEND;VALUE=DATE:20110720
TRANSP:TRANSPARENT
X-MICROSOFT-CDO-ALLDAYEVENT:TRUE
SUMMARY:Salisbury Beach Reunion!
DESCRIPTION:Reunion at Surfside5\n\n7PM till...\n\nSpecial Performances by Russ McQueen & the Reminiscents
X-ALT-DESC;FMTTYPE=text/html:Reunion at Surfside5<br />\n7PM till...<br />\nSpecial Performances by Russ McQueen &amp\; the Reminiscents
LOCATION:Surfside5 25 Broadway - on the Ocean front Salisbury
UID:e.1189.1997
SEQUENCE:3
DTSTAMP:20260420T002141Z
URL:https://business.newburyportchamber.org/events/details/salisbury-beach-reunion-07-19-2011-1997
END:VEVENT

END:VCALENDAR
