BEGIN:VCALENDAR
VERSION:2.0
PRODID:-//ChamberMaster//Event Calendar 2.0//EN
METHOD:PUBLISH
X-PUBLISHED-TTL:P3D
REFRESH-INTERVAL:P3D
CALSCALE:GREGORIAN
BEGIN:VEVENT
DTSTART:20110702T233000Z
DTEND:20110704T033000Z
X-MICROSOFT-CDO-ALLDAYEVENT:FALSE
SUMMARY:Salisbury Beach 4th of July Weekend Events
DESCRIPTION:2 Nights of Non-Stop Fun! Saturday July 2 - Free Beachfront Concert - Evan Goodrow Band and 10PM Fireworks Sunday July 3 - Beachfront Campfire &amp\; Concert - Rockin' Around the Campfire with Rudy - Fireworks at 10PM
X-ALT-DESC;FMTTYPE=text/html:2 Nights of Non-Stop Fun! Saturday July 2 - Free Beachfront Concert - Evan Goodrow Band and 10PM Fireworks Sunday July 3 - Beachfront Campfire &amp\;amp\; Concert - Rockin&#39\; Around the Campfire with Rudy - Fireworks at 10PM
LOCATION:Surfside Live Salisbury Beach Center Broadway Salisbury 978-462-7274
UID:e.1189.1961
SEQUENCE:3
DTSTAMP:20260420T002255Z
URL:https://business.newburyportchamber.org/events/details/salisbury-beach-4th-of-july-weekend-events-07-02-2011-1961
END:VEVENT

END:VCALENDAR
