BEGIN:VCALENDAR
VERSION:2.0
PRODID:-//ChamberMaster//Event Calendar 2.0//EN
METHOD:PUBLISH
X-PUBLISHED-TTL:P3D
REFRESH-INTERVAL:P3D
CALSCALE:GREGORIAN
BEGIN:VEVENT
DTSTART:20110824T151000Z
DTEND:20110824T160000Z
X-MICROSOFT-CDO-ALLDAYEVENT:FALSE
SUMMARY:S.A.Cafe - Free lunch
DESCRIPTION:Join us for free lunch every Wednesday from 11:10 am - 12 noon.\n\n\n\nSee what Paula\, Ruth and Gin are cookin' up in the kitchen this week!
X-ALT-DESC;FMTTYPE=text/html:Join us for free lunch every Wednesday from 11:10 am - 12 noon.<br />\n<br />\nSee what Paula\, Ruth and Gin are cookin&#39\; up in the kitchen this week!
LOCATION:40 Water St. Newburyport
UID:e.1189.2129
SEQUENCE:3
DTSTAMP:20260420T001837Z
URL:https://business.newburyportchamber.org/events/details/s-a-cafe-free-lunch-08-24-2011-2129
END:VEVENT

END:VCALENDAR
