BEGIN:VCALENDAR
VERSION:2.0
PRODID:-//ChamberMaster//Event Calendar 2.0//EN
METHOD:PUBLISH
X-PUBLISHED-TTL:P3D
REFRESH-INTERVAL:P3D
CALSCALE:GREGORIAN
BEGIN:VEVENT
DTSTART:20111021T230000Z
DTEND:20111022T020000Z
X-MICROSOFT-CDO-ALLDAYEVENT:FALSE
SUMMARY:Roof Overhead:Port Follies at Firehouse Center for the Arts
DESCRIPTION:Wine and Cheese Reception at 7pm\n\nPerformance at 7:30pm\n\nCoffee and dessert to follow\n\n\n\n\n\nThe evening offers local politicians a different kind of stage to showcase their "other sides" during this election season. Area mayoral and city council candidates throwing their hats in the ring this November will impress the audience with their lesser-known talents   singing\, dancing\, acting and more -- while other local notables sit and judge them from the sidelines. It promises to be an uproarious good time with plenty of surprise guests. Imagine\, all this fun and all for a great cause!\n\n\n\n\n\nABOUT ROOF OVER HEAD:\n\n\n\nThe Roof Over Head Collaborative (ROOF)\, a Massachusetts-based 501(c)(3) nonprofit\, combines the energy and talent of local citizens committed to reducing homelessness. Established in 2009\, ROOF collaborates with local social service organizations that work with the homeless populations in the Amesbury\, Newburyport\, and Salisbury area. Their focus is homeless families\, notably the children who are so traumatically impacted by homelessness.\n\n\n\nROOF will undertake fundraising to acquire and manage properties. ROOF will also lease rental units from local landlords. They seek private funding and will use the scattered-site approach when selecting properties. Their objective is to help homeless families live with dignity\, gain stability\, and move on with their lives.\n\n\n\n\n\nThis event is produced by Roof Over Head Collaborative\, Inc.
X-ALT-DESC;FMTTYPE=text/html:<strong>Wine and Cheese Reception at 7pm<br />\nPerformance at 7:30pm<br />\nCoffee and dessert to follow</strong><br />\n<br />\n<br />\nThe evening offers local politicians a different kind of stage to showcase their &quot\;other sides&quot\; during this election season. Area mayoral and city council candidates throwing their hats in the ring this November will impress the audience with their lesser-known talents &mdash\; singing\, dancing\, acting and more -- while other local notables sit and judge them from the sidelines. It promises to be an uproarious good time with plenty of surprise guests. Imagine\, all this fun and all for a great cause!<br />\n<br />\n<br />\n<strong>ABOUT ROOF OVER HEAD:</strong><br />\n<br />\nThe Roof Over Head Collaborative (ROOF)\, a Massachusetts-based 501(c)(3) nonprofit\, combines the energy and talent of local citizens committed to reducing homelessness. Established in 2009\, ROOF collaborates with local social service organizations that work with the homeless populations in the Amesbury\, Newburyport\, and Salisbury area. Their focus is homeless families\, notably the children who are so traumatically impacted by homelessness.<br />\n<br />\nROOF will undertake fundraising to acquire and manage properties. ROOF will also lease rental units from local landlords. They seek private funding and will use the scattered-site approach when selecting properties. Their objective is to help homeless families live with dignity\, gain stability\, and move on with their lives.<br />\n<br />\n<br />\nThis event is produced by Roof Over Head Collaborative\, Inc.
LOCATION:Firehouse Center for the Arts Market Square Newburyport MA 01950
UID:e.1189.2275
SEQUENCE:3
DTSTAMP:20260419T192252Z
URL:https://business.newburyportchamber.org/events/details/roof-overhead-port-follies-at-firehouse-center-for-the-arts-10-21-2011-2275
END:VEVENT

END:VCALENDAR
