BEGIN:VCALENDAR
VERSION:2.0
PRODID:-//ChamberMaster//Event Calendar 2.0//EN
METHOD:PUBLISH
X-PUBLISHED-TTL:P3D
REFRESH-INTERVAL:P3D
CALSCALE:GREGORIAN
BEGIN:VEVENT
DTSTART:20110605T000000Z
DTEND:20110605T030000Z
X-MICROSOFT-CDO-ALLDAYEVENT:FALSE
SUMMARY:Roger Ebacher and Re:Groove
DESCRIPTION:
X-ALT-DESC;FMTTYPE=text/html:
LOCATION:Firehouse Center for the Arts Market Square Newburyport\, MA 01950 (978) 462-7336
UID:e.1189.1855
SEQUENCE:3
DTSTAMP:20260420T035732Z
URL:https://business.newburyportchamber.org/events/details/roger-ebacher-and-re-groove-06-04-2011-1855
END:VEVENT

END:VCALENDAR
