BEGIN:VCALENDAR
VERSION:2.0
PRODID:-//ChamberMaster//Event Calendar 2.0//EN
METHOD:PUBLISH
X-PUBLISHED-TTL:P3D
REFRESH-INTERVAL:P3D
CALSCALE:GREGORIAN
BEGIN:VEVENT
DTSTART:20111029T030000Z
DTEND:20111029T030000Z
X-MICROSOFT-CDO-ALLDAYEVENT:FALSE
SUMMARY:Rocky Horrow Picture Show - film
DESCRIPTION:Let's do the time warp again on October 28 and watch the film version of the Rocky Horror Picture Show! Who would have thought? Certainly not young\, and upcoming actors Susan Sarandon\, Barry Bostwick\, and Tim Curry! But thirty years later\, their campy little jaunt to the unique world of Dr. Frank-n-Furter   that sweet transvestite from Transexual\, Transylvania   has become a legendary cult favorite.\n\n\n\nCostumes encouraged!
X-ALT-DESC;FMTTYPE=text/html:Let&rsquo\;s do the time warp again on October 28 and watch the film version of the Rocky Horror Picture Show! Who would have thought? Certainly not young\, and upcoming actors Susan Sarandon\, Barry Bostwick\, and Tim Curry! But thirty years later\, their campy little jaunt to the unique world of Dr. Frank-n-Furter &ndash\; that sweet transvestite from Transexual\, Transylvania &ndash\; has become a legendary cult favorite.<br />\n<br />\nCostumes encouraged! 
LOCATION:Firehouse Center for the Arts Market Square Newburyport MA 01950
UID:e.1189.2126
SEQUENCE:3
DTSTAMP:20260419T211912Z
URL:https://business.newburyportchamber.org/events/details/rocky-horrow-picture-show-film-10-28-2011-2126
END:VEVENT

END:VCALENDAR
