BEGIN:VCALENDAR
VERSION:2.0
PRODID:-//ChamberMaster//Event Calendar 2.0//EN
METHOD:PUBLISH
X-PUBLISHED-TTL:P3D
REFRESH-INTERVAL:P3D
CALSCALE:GREGORIAN
BEGIN:VEVENT
DTSTART:20111204T010000Z
DTEND:20111204T030000Z
X-MICROSOFT-CDO-ALLDAYEVENT:FALSE
SUMMARY:Robin Spielberg at Firehouse Center for the Arts
DESCRIPTION:
X-ALT-DESC;FMTTYPE=text/html:
LOCATION:Firehouse Center for the Arts Market Square\, Newburyport\, MA 01950
UID:e.1189.2290
SEQUENCE:3
DTSTAMP:20260419T173412Z
URL:https://business.newburyportchamber.org/events/details/robin-spielberg-at-firehouse-center-for-the-arts-12-03-2011-2290
END:VEVENT

END:VCALENDAR
