BEGIN:VCALENDAR
VERSION:2.0
PRODID:-//ChamberMaster//Event Calendar 2.0//EN
METHOD:PUBLISH
X-PUBLISHED-TTL:P3D
REFRESH-INTERVAL:P3D
CALSCALE:GREGORIAN
BEGIN:VEVENT
DTSTART:20100710T040000Z
DTEND:20100710T040000Z
X-MICROSOFT-CDO-ALLDAYEVENT:FALSE
SUMMARY:Riverfront Music Festival
DESCRIPTION:Join us for Newburyport's Riverfront Music Festival!
X-ALT-DESC;FMTTYPE=text/html:<P><FONT face=Arial><SPAN style="FONT-FAMILY: 'Century Gothic'"><SPAN style="FONT-SIZE: small"><FONT size=2>Join us&nbsp\;for Newburyport's&nbsp\;</FONT></SPAN><A style="COLOR: blue\; TEXT-DECORATION: underline" title="" dataFld=0:0 href="http://www.newburyportchamber.org/Riverfront.shtml" target=_NewWindow><SPAN style="FONT-SIZE: small"><FONT size=2>Riverfront Music Festival</FONT></SPAN></A><SPAN style="FONT-SIZE: small"><FONT size=2>! </FONT></SPAN></SPAN></FONT></P>
LOCATION:Waterfront Park
UID:e.1189.1383
SEQUENCE:3
DTSTAMP:20260421T025941Z
URL:https://business.newburyportchamber.org/events/details/riverfront-music-festival-07-10-2010-1383
END:VEVENT

END:VCALENDAR
