BEGIN:VCALENDAR
VERSION:2.0
PRODID:-//ChamberMaster//Event Calendar 2.0//EN
METHOD:PUBLISH
X-PUBLISHED-TTL:P3D
REFRESH-INTERVAL:P3D
CALSCALE:GREGORIAN
BEGIN:VEVENT
DTSTART:20110617T220000Z
DTEND:20110618T020000Z
X-MICROSOFT-CDO-ALLDAYEVENT:FALSE
SUMMARY:"RIP IT 'n CLIP IT"
DESCRIPTION:Join your nbpt. chamber friends at john farley's \n\n	LOCAL MAYORS\, BUSINESS LEADERS ANDothers as they SIGN-UP TO 'TAKE IT OFF' TO Benefit THE Nate Bibaud recovery fund\n\n	\n\n	\n\n	Pledges accepted\; tickets available to An Evening of Courage\, Determination and Hope\;\n\n	\n\n	\n\n	The Provident Bank pledges $5\,000 matching funds\n\n	\n\n	The roster of volunteers who will "rip it or clip it" to raise money and awareness for the Nate Bibaud Recovery Fund is growing with who's who of local dignitaries and business leaders. Among those agreeing to have their hair shaved\, buzzed or cut are Newburyport Mayor Donna Holaday\, Amesbury Mayor Thatcher Kezer\, Essex County Sheriff Frank Cousins\, local developerDavid Hall\, Newburyport building commissioner Gary Calderwood\, local community leader and former collegiate hockey stand-out Ralph Cox\, and others (a complete list is below). In addition\, The Provident Bankwill match pledges up to $5\,000 made in support of President & CEO Charlie Cullen's buzz cut for a total donation of $10\,000. \n\n	 \n\n	The public is welcome to attend Rip It 'n Clip It: An Evening of Courage\, Determination and Hope\, on Friday\, June 17\, 6-11:30pm\, at Amesbury Sports Park\, when these brave souls and others will have their heads shaved\, buzzed or cut\, or their chests waxed for all to witness. Tickets are $10 and proceeds benefit the Nathaniel Bibaud Recovery Fund (event details follow).\n\n	\n\n	Nate Bibaud\, 27\, was born and spent most of his childhood in Amesbury. He sustained a debilitating spinal cord injury\, which left him paralyzed from the chest down\, in a December 2010 car accident in St. Croix\, USVirgin Islands\n\n	 \n\n	Rip It 'n Clip It: An Evening of Courage\, Determination and Hope\n\n	The Rip It 'n Clip It event on June 17 at Amesbury Sports Park will feature a silent auction\, including weekend getaways\, sports memorabilia\, Red Sox\, Bruins and Patriots tickets\, and two tickets to the New York City world premier and private reception of actor Steve Carell's new movie Crazy\, Stupid\, Love in July. Carell is the star of The Office and the hit film The 40-Year Old Virgin\, which featured him in a hilarious chest-waxing scene. Expected to add to the evening's star power will be former Boston Bruins Rick Middleton and Terry O'Reilly\, who will sign complimentary autographs. Interlocks Salon & Day Spa owner Ginny Eramo and Inn Street Barber Shop owner Esther Sayer\, both in Newburyport\, will supervise the hair cutting and chest waxing. The evening will also include refreshments and live music from the local band\, "Michael and the Uprising."\n\n	 \n\n	For more information on the Nathaniel Bibaud Recovery Fund\, or to make a donation\, obtain a pledge sheet\, or support someone who will rip or clip for Nate\, please visit www.natebibaud.org. To make a pledge for Charlie Cullen's buzz cut to support The Provident Bank's $5\,000 matching donation\, please visit www.TheProvidentBank.com.\n\n	 \n\n	Tickets to the Rip It 'n Clip It event on Friday\, June 17\, and pledge sheets are also available at John Farley Clothiers\, 31 Water Street\, Newburyport\; at Surfland Bait and Tackle on PlumIsland\; and at the Amesbury and Newburyportbranches of The Provident Bank. All donations are welcome. Please make checks payable to"Nathaniel Bibaud Recovery Fund" and mail to: The Nate Bibaud Recovery Fund\, c/o The Provident Bank\, 5 Market Street\, Amesbury\, MA01913.  Also\, donation may be accepted on line at natebibaud.org/help-the-cause.\n\n	 \n\n	Rip It 'n Clip Itevent tickets may also be purchased from the following Event Committee Members: \n\n	 \n\n	\n		\n			\n				\n					Brett Reily\, Chairman\n\n					John & Linda Allison\n\n					Zach Bibaud\n\n					David and Liz Cowie\n\n					Ralph Cox\n\n					Charlie Cullen\n\n					Robin DeMerritt\n\n					Ginny & Tom Eramo\n				\n					Kim Gobbi\n\n					Rachel Jones\n\n					Ann Lagasse\n\n					Deidre McCarty\n\n					Maura McCarthy\n\n					Esther Sayer\n\n					James Waldron\n\n					Mary Williamson\n			\n		\n	\n	 \n\n	The Rip It `n Clip It participants (as of May 27) are: Gordon Blaney\, Mayor Donna Holaday\,\n\n	Gary Calderwood\, Sheriff Frank Cousins\, Ralph Cox\, Charlie Cullen\, Peter Ettenbourogh\, David Hall\, Mayor Thatcher Kezer\, Charlie Lagasse\, Everett McCarty\, Brett Reily\, James Waldron\, and several of Nate Bibaud's friends and former sports team mates.
X-ALT-DESC;FMTTYPE=text/html:<div>\n	<span style="font-family: arial"><span style="font-size: 10pt"><strong><span style="text-transform: uppercase"><span style="font-family: arial"><span style="font-size: medium">Join your nbpt. chamber friends at john farley&rsquo\;s&hellip\;</span></span></span></strong></span></span><br />\n	<span style="font-size: medium"><strong><span style="text-transform: uppercase"><span style="font-family: arial">LOCAL MAYORS\, BUSINESS LEADERS </span></span></strong><st1:stockticker><strong><span style="text-transform: uppercase"><span style="font-family: arial">AND</span></span></strong></st1:stockticker></span><strong><span style="text-transform: uppercase"><span style="font-family: arial"><span style="font-size: medium">others as they SIGN-UP TO &lsquo\;TAKE IT OFF&rsquo\; TO Benefit THE Nate Bibaud recovery fund</span></span></span></strong><br />\n	<br />\n	<br />\n	<strong><em><span style="font-family: arial"><span style="font-size: 10pt">Pledges accepted\; tickets available to An Evening of Courage\, Determination and Hope\;</span></span></em></strong><br />\n	<br />\n	<br />\n	<strong><em><span style="font-family: arial"><span style="font-size: 10pt">The Provident Bank pledges $5\,000 matching funds</span></span></em></strong><br />\n	<br />\n	<span style="font-family: arial"><span style="font-size: 10pt">The roster of volunteers who will &ldquo\;rip it or clip it&rdquo\; to raise money and awareness for the Nate Bibaud Recovery Fund is growing with who&rsquo\;s who of local dignitaries and business leaders. Among those agreeing to have their hair shaved\, buzzed or cut are <strong>Newburyport Mayor Donna Holaday\, Amesbury Mayor Thatcher Kezer\, Essex County Sheriff Frank Cousins\,</strong> local developer<strong>David Hall\,</strong> Newburyport building commissioner <strong>Gary Calderwood</strong>\, local community leader and former collegiate hockey stand-out <strong>Ralph Cox</strong>\, and others (a complete list is below). In addition\, The Provident Bankwill match pledges up to $5\,000 made in support of President &amp\; CEO <strong>Charlie Cullen&rsquo\;s</strong> buzz cut for a total donation of $10\,000. </span></span><br />\n	&nbsp\;<br />\n	<span style="font-family: arial"><span style="font-size: 10pt">The public is welcome to attend <strong><em>Rip It &lsquo\;n Clip It</em>: <em>An Evening of Courage\, Determination and Hope\,</em> on Friday\, June 17\, 6-11:30pm\, at Amesbury Sports Park</strong>\, when these brave souls and others will have their heads shaved\, buzzed or cut\, or their chests waxed for all to witness. Tickets are $10 and proceeds benefit the Nathaniel Bibaud Recovery Fund (event details follow).</span></span><br />\n	<br />\n	<span style="font-family: arial"><span style="font-size: 10pt">Nate Bibaud\, 27\, was born and spent most of his childhood in Amesbury. He sustained a debilitating spinal cord injury\, which left him paralyzed from the chest down\, in a December 2010 car accident in </span></span><span style="font-family: arial"><span style="font-size: 10pt">St. Croix</span></span><span style="font-family: arial"><span style="font-size: 10pt">\, </span></span><span style="font-family: arial"><span style="font-size: 10pt">US</span></span><span style="font-family: arial"><span style="font-size: 10pt">Virgin Islands</span></span><br />\n	&nbsp\;<br />\n	<strong><em><span style="font-family: arial"><span style="font-size: 10pt">Rip It &lsquo\;n Clip It</span></span></em></strong><strong><span style="font-family: arial"><span style="font-size: 10pt">: <em>An Evening of Courage\, Determination and Hope</em></span></span></strong><br />\n	<span style="font-family: arial"><span style="font-size: 10pt">The <em>Rip It &lsquo\;n Clip It</em> event on June 17 at Amesbury Sports Park will feature a silent auction\, including weekend getaways\, sports memorabilia\, Red Sox\, Bruins and Patriots tickets\, and two tickets to the New York City world premier and private reception of actor Steve Carell&rsquo\;s new movie <em>Crazy\, Stupid\, Love</em> in July. Carell is the star of <em>The Office</em> and the hit film <em>The 40-Year Old Virgin</em>\, which featured him in a hilarious chest-waxing scene. Expected to add to the evening&rsquo\;s star power will be former Boston Bruins Rick Middleton and Terry O&rsquo\;Reilly\, who will sign complimentary autographs. Interlocks Salon &amp\; Day Spa owner Ginny Eramo and Inn Street Barber Shop owner Esther Sayer\, both in </span></span><span style="font-family: arial"><span style="font-size: 10pt">Newburyport</span></span><span style="font-family: arial"><span style="font-size: 10pt">\, will supervise the hair cutting and chest waxing. The evening will also include refreshments and live music from the local band\, &ldquo\;Michael and the Uprising.&rdquo\;</span></span><br />\n	&nbsp\;<br />\n	<span style="font-family: arial"><span style="font-size: 10pt">For more information on the <strong>Nathaniel Bibaud Recovery Fund\,</strong> or to make a donation\, obtain a pledge sheet\, or support someone who will rip or clip for Nate\, please visit </span></span><span style="font-size: 10pt"><a href="http://www.natebibaud.org/"><span style="font-family: arial">www.natebibaud.org</span></a></span><span style="font-family: arial"><span style="font-size: 10pt">. To make a pledge for Charlie Cullen&rsquo\;s buzz cut to support The Provident Bank&rsquo\;s $5\,000 matching donation\, please visit <u><span style="color: blue"><a href="http://www.the/">www.The</a>ProvidentBank.com.</span></u></span></span><br />\n	&nbsp\;<br />\n	<span style="font-family: arial"><span style="font-size: 10pt">Tickets to the <em>Rip It &lsquo\;n Clip It</em> event on Friday\, June 17\, and pledge sheets are also available at John Farley Clothiers\, </span></span><span style="font-family: arial"><span style="font-size: 10pt">31 Water Street</span></span><span style="font-family: arial"><span style="font-size: 10pt">\, </span></span><span style="font-family: arial"><span style="font-size: 10pt">Newburyport</span></span><span style="font-family: arial"><span style="font-size: 10pt">\; at Surfland Bait and Tackle on </span></span><span style="font-family: arial"><span style="font-size: 10pt">Plum</span></span><span style="font-family: arial"><span style="font-size: 10pt">Island</span></span><span style="font-family: arial"><span style="font-size: 10pt">\; and at the Amesbury and </span></span><span style="font-family: arial"><span style="font-size: 10pt">Newburyport</span></span><span style="font-family: arial"><span style="font-size: 10pt">branches of The Provident Bank. All donations are welcome. Please make checks payable to<strong>&ldquo\;Nathaniel Bibaud Recovery Fund&rdquo\; </strong>and mail to: <em>The Nate Bibaud Recovery Fund\, c/o The Provident Bank\, </em></span></span><em><span style="font-family: arial"><span style="font-size: 10pt">5 Market Street</span></span></em><em><span style="font-family: arial"><span style="font-size: 10pt">\, </span></span></em><em><span style="font-family: arial"><span style="font-size: 10pt">Amesbury</span></span></em><em><span style="font-family: arial"><span style="font-size: 10pt">\, </span></span></em><em><span style="font-family: arial"><span style="font-size: 10pt">MA</span></span></em><em><span style="font-family: arial"><span style="font-size: 10pt">01913</span></span></em><em><span style="font-family: arial"><span style="font-size: 10pt">.&nbsp\; Also\, donation may be accepted on line at natebibaud.org/help-the-cause.</span></span></em><br />\n	&nbsp\;<br />\n	<em><span style="font-family: arial"><span style="font-size: 10pt">Rip It &lsquo\;n Clip It</span></span></em><span style="font-family: arial"><span style="font-size: 10pt">event tickets may also be purchased from the following Event Committee Members: </span></span><br />\n	&nbsp\;<br />\n	<table border="0" cellpadding="0" cellspacing="0" style="margin: auto auto auto 41.4pt\; border-collapse: collapse">\n		<tbody>\n			<tr>\n				<td style="border-right: #ece9d8\; padding-right: 5.4pt\; border-top: #ece9d8\; padding-left: 5.4pt\; padding-bottom: 0in\; vertical-align: top\; border-left: #ece9d8\; width: 222px\; padding-top: 0in\; border-bottom: #ece9d8">\n					<span style="font-family: arial"><span style="font-size: 10pt">Brett Reily\, Chairman</span></span><br />\n					<span style="font-family: arial"><span style="font-size: 10pt">John &amp\; Linda Allison</span></span><br />\n					<span style="font-family: arial"><span style="font-size: 10pt">Zach Bibaud</span></span><br />\n					<span style="font-family: arial"><span style="font-size: 10pt">David and Liz Cowie</span></span><br />\n					<span style="font-family: arial"><span style="font-size: 10pt">Ralph Cox</span></span><br />\n					<span style="font-family: arial"><span style="font-size: 10pt">Charlie Cullen</span></span><br />\n					<span style="font-family: arial"><span style="font-size: 10pt">Robin DeMerritt</span></span><br />\n					<span style="font-family: arial"><span style="font-size: 10pt">Ginny &amp\; Tom Eramo</span></span></td>\n				<td style="border-right: #ece9d8\; padding-right: 5.4pt\; border-top: #ece9d8\; padding-left: 5.4pt\; padding-bottom: 0in\; vertical-align: top\; border-left: #ece9d8\; width: 210px\; padding-top: 0in\; border-bottom: #ece9d8">\n					<span style="font-family: arial"><span style="font-size: 10pt">Kim Gobbi</span></span><br />\n					<span style="font-family: arial"><span style="font-size: 10pt">Rachel Jones</span></span><br />\n					<span style="font-family: arial"><span style="font-size: 10pt">Ann Lagasse</span></span><br />\n					<span style="font-family: arial"><span style="font-size: 10pt">Deidre McCarty</span></span><br />\n					<span style="font-family: arial"><span style="font-size: 10pt">Maura McCarthy</span></span><br />\n					<span style="font-family: arial"><span style="font-size: 10pt">Esther Sayer</span></span><br />\n					<span style="font-family: arial"><span style="font-size: 10pt">James Waldron</span></span><br />\n					<span style="font-family: arial"><span style="font-size: 10pt">Mary Williamson</span></span></td>\n			</tr>\n		</tbody>\n	</table>\n	&nbsp\;<br />\n	<span style="font-family: arial"><span style="color: black"><span style="font-size: 10pt">The Rip It `n Clip It participants (as of May 27) are: Gordon Blaney\, Mayor Donna Holaday\,<br />\n	Gary Calderwood\, Sheriff Frank Cousins\, Ralph Cox\, Charlie Cullen\, Peter Ettenbourogh\, David Hall\, Mayor Thatcher Kezer\, Charlie Lagasse\, Everett McCarty\, Brett Reily\, James Waldron\, and several of Nate Bibaud&rsquo\;s friends and former sports team mates.</span></span></span><br />\n	&nbsp\;</div>\n
LOCATION:Amesbury Sports Park 12 South Hunt Rd Amesbury 978-388-5788
UID:e.1189.1876
SEQUENCE:3
DTSTAMP:20260420T015728Z
URL:https://business.newburyportchamber.org/events/details/rip-it-n-clip-it-06-17-2011-1876
END:VEVENT

END:VCALENDAR
