BEGIN:VCALENDAR
VERSION:2.0
PRODID:-//ChamberMaster//Event Calendar 2.0//EN
METHOD:PUBLISH
X-PUBLISHED-TTL:P3D
REFRESH-INTERVAL:P3D
CALSCALE:GREGORIAN
BEGIN:VEVENT
DTSTART:20110922T210000Z
DTEND:20110922T220000Z
X-MICROSOFT-CDO-ALLDAYEVENT:FALSE
SUMMARY:Ribbon Cutting- YWCA Greater Newburyport
DESCRIPTION:Join the YWCA Greater Newburyport\, the Chamber and Mayor Donna Holaday to Celebrate the Dedication of their New Labyrinth\n\n\n\nThere will be activities for children and Reverand Hubbard will talk about what a labyrinth is. Ribbon cutting to be held at 5:30 PM.
X-ALT-DESC;FMTTYPE=text/html:<span style="font-size: 14px"><strong><span style="color: #ff6600"><span style="font-family: arial">Join the YWCA Greater Newburyport\, the Chamber&nbsp\;and Mayor Donna Holaday to Celebrate the&nbsp\;Dedication of their New Labyrinth</span></span></strong></span><br />\n<br />\n<span style="font-size: 14px"><span style="font-family: arial"><span style="font-family: arial">There will be activities for children and Reverand&nbsp\;</span></span><span style="font-family: arial"><span style="font-family: arial">Hubbard will talk about what a labyrinth is. Ribbon cutting to be held at 5:30 PM.&nbsp\;</span></span></span><br />\n
LOCATION:YWCA 13 Market Street Newburyport
UID:e.1189.2191
SEQUENCE:3
DTSTAMP:20260419T230040Z
URL:https://business.newburyportchamber.org/events/details/ribbon-cutting-ywca-greater-newburyport-09-22-2011-2191
END:VEVENT

END:VCALENDAR
