BEGIN:VCALENDAR
VERSION:2.0
PRODID:-//ChamberMaster//Event Calendar 2.0//EN
METHOD:PUBLISH
X-PUBLISHED-TTL:P3D
REFRESH-INTERVAL:P3D
CALSCALE:GREGORIAN
BEGIN:VEVENT
DTSTART:20090827T040000Z
DTEND:20090827T040000Z
X-MICROSOFT-CDO-ALLDAYEVENT:FALSE
SUMMARY:Ribbon Cutting - Warren Street Market & Deli
DESCRIPTION:Warren Street Market & DeliRibbon Cutting Ceremony\nThursday\, August 27\n4:00pmJoin fellow chamber members and Mayor John Moak for a special Ribbon Cutting ceremony to celebrate the Grand Opening of Warren Street Market & Deli.\n\nEnjoy delicious food samplings!Location:\n226 Merrimac Street\, Newburyport\nRSVP online or call  (978) 462-6680 x13
X-ALT-DESC;FMTTYPE=text/html:<P><FONT color=#ff0000><STRONG><FONT color=#ff0000>Warren Street Market &amp\; Deli</FONT></STRONG></P><P><FONT color=#000000>Ribbon Cutting Ceremony<BR>Thursday\,&nbsp\;August 27<BR>4:00pm</FONT></P><P><FONT color=#000000>Join fellow chamber members&nbsp\;and Mayor John Moak&nbsp\;for a special <FONT color=#000000>Ribbon Cutting ceremony</FONT> to celebrate the&nbsp\;Grand Opening of Warren Street Market &amp\; Deli.<BR><BR>Enjoy delicious food samplings!</FONT></P><P><FONT color=#000000>Location:<BR></FONT><FONT color=#000000>226 Merrimac Street\, Newburyport</FONT><BR><FONT color=#000000>RSVP online or call&nbsp\; (978) 462-6680 x13</FONT></P></FONT><A href="http://www.josephswinterstcafe.com"></A>
LOCATION:Warren Street Market & Deli
UID:e.1189.1276
SEQUENCE:3
DTSTAMP:20260421T202719Z
URL:https://business.newburyportchamber.org/events/details/ribbon-cutting-warren-street-market-deli-08-27-2009-1276
END:VEVENT

END:VCALENDAR
