BEGIN:VCALENDAR
VERSION:2.0
PRODID:-//ChamberMaster//Event Calendar 2.0//EN
METHOD:PUBLISH
X-PUBLISHED-TTL:P3D
REFRESH-INTERVAL:P3D
CALSCALE:GREGORIAN
BEGIN:VEVENT
DTSTART:20110609T200000Z
DTEND:20110609T210000Z
X-MICROSOFT-CDO-ALLDAYEVENT:FALSE
SUMMARY:Ribbon Cutting - Vizcaya Active
DESCRIPTION:Join us for a special Ribbon Cutting ceremony to celebrate the Grand Opening of Vizcaya Active.\n\n\n\nRSVP 978.462.6680 x13
X-ALT-DESC;FMTTYPE=text/html:Join us for a special Ribbon Cutting ceremony to celebrate the Grand Opening of <a href="http://www.vizcayaactive.com">Vizcaya Active</a>.<br />\n<br />\nRSVP 978.462.6680 x13
LOCATION:Vizcaya Active 1 Merrimac Street\, Unit 15 Newburyport\, MA
UID:e.1189.1883
SEQUENCE:3
DTSTAMP:20260420T035042Z
URL:https://business.newburyportchamber.org/events/details/ribbon-cutting-vizcaya-active-06-09-2011-1883
END:VEVENT

END:VCALENDAR
