BEGIN:VCALENDAR
VERSION:2.0
PRODID:-//ChamberMaster//Event Calendar 2.0//EN
METHOD:PUBLISH
X-PUBLISHED-TTL:P3D
REFRESH-INTERVAL:P3D
CALSCALE:GREGORIAN
BEGIN:VEVENT
DTSTART:20090924T040000Z
DTEND:20090924T040000Z
X-MICROSOFT-CDO-ALLDAYEVENT:FALSE
SUMMARY:Ribbon Cutting - Uncommon Threads
DESCRIPTION:Uncommon ThreadsRibbon Cutting Ceremony\nThursday\, September 24Join fellow chamber members and Mayor John Moak for a special Ribbon Cutting ceremony to celebrate the Grand Opening of Uncommon Threads.\n\nLocation:\n48 Inn Street\, Newburyport\nRSVP online or call  (978) 462-6680 x13
X-ALT-DESC;FMTTYPE=text/html:<P><FONT color=#ff0000><STRONG><FONT color=#ff0000>Uncommon Threads</FONT></STRONG></P><P><FONT color=#000000>Ribbon Cutting Ceremony<BR>Thursday\, September 24</FONT></P><P><FONT color=#000000>Join fellow chamber members&nbsp\;and Mayor John Moak&nbsp\;for a special <FONT color=#000000>Ribbon Cutting ceremony</FONT> to celebrate the&nbsp\;Grand Opening of Uncommon Threads.<BR><BR></FONT><FONT color=#000000>Location:<BR></FONT><FONT color=#000000>48 Inn&nbsp\;Street\, Newburyport</FONT><BR><FONT color=#000000>RSVP online or call&nbsp\; (978) 462-6680 x13</FONT></P></FONT><A href="http://www.josephswinterstcafe.com"></A>
LOCATION:Uncommon Threads
UID:e.1189.1309
SEQUENCE:3
DTSTAMP:20260421T181753Z
URL:https://business.newburyportchamber.org/events/details/ribbon-cutting-uncommon-threads-09-24-2009-1309
END:VEVENT

END:VCALENDAR
