BEGIN:VCALENDAR
VERSION:2.0
PRODID:-//ChamberMaster//Event Calendar 2.0//EN
METHOD:PUBLISH
X-PUBLISHED-TTL:P3D
REFRESH-INTERVAL:P3D
CALSCALE:GREGORIAN
BEGIN:VEVENT
DTSTART:20090611T040000Z
DTEND:20090611T040000Z
X-MICROSOFT-CDO-ALLDAYEVENT:FALSE
SUMMARY:Ribbon Cutting - The Shake Station
DESCRIPTION:The Shake StationRibbon Cutting Ceremony\nThursday\, June 11\, 4pmYou're Invited!Join us for a special Ribbon Cutting ceremony to celebrate the Grand Opening of The Shake Station. Introductions and welcoming remarks at 4pm\, followed by a special ribbon cutting with Mayor John Moak and the Chamber of Commerce.Location:\n20 Unicorn St.\, Newburyport\nRSVP online or call  (978) 462-6680 x13
X-ALT-DESC;FMTTYPE=text/html:<P><FONT color=#ff0000><STRONG><FONT color=#ff0000>The Shake Station</FONT></STRONG></P><P><STRONG><FONT color=#000000>Ribbon Cutting Ceremony<BR>Thursday\, June 11\, 4pm</FONT></STRONG></P><P><STRONG><FONT color=#ff0000>You're Invited!</FONT></STRONG></P><P><STRONG><FONT color=#000000>Join us for a special <FONT color=#ff0000>Ribbon Cutting ceremony</FONT> to celebrate the&nbsp\;Grand Opening of The Shake Station. Introductions and welcoming remarks at <FONT color=#ff0000>4pm\,</FONT> followed by a special ribbon cutting with Mayor John Moak and the Chamber of Commerce.</FONT></STRONG></P><P><STRONG><FONT color=#000000>Location:<BR></FONT>20 Unicorn&nbsp\;St.\, Newburyport<BR><FONT color=#000000>RSVP online or call&nbsp\; (978) 462-6680 x13</FONT></STRONG></P></FONT><A href="http://www.josephswinterstcafe.com"></A>
LOCATION:The Shake Station
UID:e.1189.1248
SEQUENCE:3
DTSTAMP:20260421T231623Z
URL:https://business.newburyportchamber.org/events/details/ribbon-cutting-the-shake-station-06-11-2009-1248
END:VEVENT

END:VCALENDAR
