BEGIN:VCALENDAR
VERSION:2.0
PRODID:-//ChamberMaster//Event Calendar 2.0//EN
METHOD:PUBLISH
X-PUBLISHED-TTL:P3D
REFRESH-INTERVAL:P3D
CALSCALE:GREGORIAN
BEGIN:VEVENT
DTSTART:20091022T040000Z
DTEND:20091022T040000Z
X-MICROSOFT-CDO-ALLDAYEVENT:FALSE
SUMMARY:Ribbon Cutting - The Port Candle
DESCRIPTION:The Port CandleRibbon Cutting Ceremony\nThursday\, October 22\, 2009Join fellow chamber members and Mayor John Moak for a special Ribbon Cutting ceremony to celebrate the Grand Opening of The Port Candle.\n\nLocation:\n23 Inn Street\, Newburyport\nRSVP online or call  (978) 462-6680 x13
X-ALT-DESC;FMTTYPE=text/html:<P><FONT color=#ff0000><STRONG><FONT color=#ff0000>The Port Candle</FONT></STRONG></P><P><FONT color=#000000>Ribbon Cutting Ceremony<BR>Thursday\, October 22\, 2009</FONT></P><P><FONT color=#000000>Join fellow chamber members&nbsp\;and Mayor John Moak&nbsp\;for a special <FONT color=#000000>Ribbon Cutting ceremony</FONT> to celebrate the&nbsp\;Grand Opening of The Port Candle.<BR><BR></FONT><FONT color=#000000>Location:<BR></FONT><FONT color=#000000>23&nbsp\;Inn&nbsp\;Street\, Newburyport</FONT><BR><FONT color=#000000>RSVP online or call&nbsp\; (978) 462-6680 x13</FONT></P></FONT><A href="http://www.josephswinterstcafe.com"></A>
LOCATION:The Port Candle
UID:e.1189.1337
SEQUENCE:3
DTSTAMP:20260421T182137Z
URL:https://business.newburyportchamber.org/events/details/ribbon-cutting-the-port-candle-10-22-2009-1337
END:VEVENT

END:VCALENDAR
