BEGIN:VCALENDAR
VERSION:2.0
PRODID:-//ChamberMaster//Event Calendar 2.0//EN
METHOD:PUBLISH
X-PUBLISHED-TTL:P3D
REFRESH-INTERVAL:P3D
CALSCALE:GREGORIAN
BEGIN:VEVENT
DTSTART:20090909T040000Z
DTEND:20090909T040000Z
X-MICROSOFT-CDO-ALLDAYEVENT:FALSE
SUMMARY:Ribbon Cutting - Sweethaven Photography
DESCRIPTION:Sweethaven Studio\nRibbon Cutting\nWednesday\, September 9\n4:00pmYou're Invited!\nJoin fellow chamber members and Mayor John Moak for a special Ribbon Cutting ceremony\nto celebrate the Grand Opening of Sweethaven Photography Studio in downtown Newburyport.Location:\n26 Inn Street\, downtown Newburyport\nBehind Valerie's Gallery \nRSVP online or call  978-462-6680
X-ALT-DESC;FMTTYPE=text/html:<P><STRONG>Sweethaven Studio</STRONG><BR>Ribbon Cutting<BR>Wednesday\, September 9<BR>4:00pm</P><P><STRONG>You're Invited!</STRONG><BR>Join fellow chamber members and Mayor John Moak for a special Ribbon Cutting ceremony<BR>to celebrate the Grand Opening of Sweethaven Photography Studio in downtown Newburyport.</P><P><STRONG>Location:</STRONG><BR>26 Inn Street\, downtown Newburyport<BR>Behind Valerie's Gallery&nbsp\;<BR>RSVP online or call&nbsp\; 978-462-6680</P><P><A href="http://www.josephswinterstcafe.com"></A>&nbsp\;</P>
LOCATION:Sweethaven Studio
UID:e.1189.1277
SEQUENCE:3
DTSTAMP:20260421T182122Z
URL:https://business.newburyportchamber.org/events/details/ribbon-cutting-sweethaven-photography-09-09-2009-1277
END:VEVENT

END:VCALENDAR
