BEGIN:VCALENDAR
VERSION:2.0
PRODID:-//ChamberMaster//Event Calendar 2.0//EN
METHOD:PUBLISH
X-PUBLISHED-TTL:P3D
REFRESH-INTERVAL:P3D
CALSCALE:GREGORIAN
BEGIN:VEVENT
DTSTART:20090406T040000Z
DTEND:20090406T040000Z
X-MICROSOFT-CDO-ALLDAYEVENT:FALSE
SUMMARY:Ribbon Cutting - Sisters We Three
DESCRIPTION:Sisters We ThreeRibbon Cutting Ceremony\nMonday\, April 6\, 4pmYou're Invited!Join us for a special Ribbon Cutting ceremony to celebrate the Grand Opening of Sisters We Three. Introductions and welcoming remarks at 4pm\, followed by a special ribbon cutting with Mayor John Moak and the Chamber of Commerce.Location:\n57 Pleasant St.\, Newburyport\nRSVP online or call  (978) 462-6680 x13
X-ALT-DESC;FMTTYPE=text/html:<P><FONT color=#ff0000><STRONG><FONT color=#ff0000>Sisters We Three</FONT></STRONG></P><P><STRONG><FONT color=#000000>Ribbon Cutting Ceremony<BR>Monday\, April 6\, 4pm</FONT></STRONG></P><P><STRONG><FONT color=#ff0000>You're Invited!</FONT></STRONG></P><P><STRONG><FONT color=#000000>Join us for a special <FONT color=#ff0000>Ribbon Cutting ceremony</FONT> to celebrate the&nbsp\;Grand Opening of Sisters We Three. Introductions and welcoming remarks at <FONT color=#ff0000>4pm\,</FONT> followed by a special ribbon cutting with Mayor John Moak and the Chamber of Commerce.</FONT></STRONG></P><P><STRONG><FONT color=#000000>Location:<BR></FONT>57 Pleasant St.\, Newburyport<BR><FONT color=#000000>RSVP online or call&nbsp\; (978) 462-6680 x13</FONT></STRONG></P></FONT><A href="http://www.josephswinterstcafe.com"></A>
LOCATION:Sisters We Three
UID:e.1189.1199
SEQUENCE:3
DTSTAMP:20260422T025702Z
URL:https://business.newburyportchamber.org/events/details/ribbon-cutting-sisters-we-three-04-06-2009-1199
END:VEVENT

END:VCALENDAR
