BEGIN:VCALENDAR
VERSION:2.0
PRODID:-//ChamberMaster//Event Calendar 2.0//EN
METHOD:PUBLISH
X-PUBLISHED-TTL:P3D
REFRESH-INTERVAL:P3D
CALSCALE:GREGORIAN
BEGIN:VEVENT
DTSTART:20100916T040000Z
DTEND:20100916T040000Z
X-MICROSOFT-CDO-ALLDAYEVENT:FALSE
SUMMARY:Ribbon Cutting - Seaport Signworks
DESCRIPTION:Seaport SignworksRibbon Cutting Ceremony\nThursday\, September 16\, 2010\n4:00pmJoin us for a special Ribbon Cutting ceremony to celebrate the Grand Opening of Seaport Signworks in Salisbury\, MA.Owner Michael Steer invites you to join him and guests to enjoy pizza from Upper Crust and samplings from Chef Steve Deffley owner of Got Thyme personal chef service.   \n\nLocation:\n141 Bridge Road\, #103  Salisbury\, MA \nRSVP online or call  (978) 462-6680 x13
X-ALT-DESC;FMTTYPE=text/html:<FONT color=#ff0000><FONT color=#000000><FONT color=#ff0000><P><P style="MARGIN: 0in 0in 0pt" class=MsoNormal><STRONG><SPAN style="FONT-FAMILY: Calibri\; COLOR: red\; FONT-SIZE: 14pt">Seaport Signworks<?xml:namespace prefix = o ns = "urn:schemas-microsoft-com:office:office" /><o:p></o:p></SPAN></STRONG></P><P></P><P><FONT size=4><SPAN style="FONT-FAMILY: Calibri\; COLOR: black">Ribbon Cutting Ceremony<BR></SPAN><?xml:namespace prefix = st1 ns = "urn:schemas-microsoft-com:office:smarttags" /><st1:date Year="2010" Day="16" Month="9"><SPAN style="FONT-FAMILY: Calibri\; COLOR: black"><?xml:namespace prefix = u1 /><u1:date Year="2010" Day="16" Month="9">Thursday\, September 16\, 2010</SPAN></u1:date></st1:date></FONT><SPAN style="FONT-FAMILY: Calibri\; COLOR: black"><BR></SPAN><st1:time Minute="0" Hour="16"><SPAN style="FONT-FAMILY: Calibri"><u1:time Minute="0" Hour="16"><FONT color=#000000 size=4>4:00pm</FONT></SPAN></u1:time></st1:time><SPAN style="FONT-FAMILY: Calibri"><o:p></o:p></SPAN></P><P><FONT size=4><FONT color=#000000><SPAN style="FONT-FAMILY: Calibri">Join us for a special <STRONG><SPAN style="FONT-FAMILY: Calibri\; FONT-WEIGHT: normal\; mso-bidi-font-weight: bold">Ribbon Cutting</SPAN></STRONG> ceremony to celebrate the&nbsp\;Grand Opening of Seaport Signworks</SPAN> </FONT><SPAN style="FONT-FAMILY: Calibri"><FONT color=#000000>in</FONT><SPAN style="COLOR: red"> </SPAN></SPAN><u1:place><u1:City><st1:place><st1:City><SPAN style="COLOR: black"><SPAN style="FONT-FAMILY: Calibri">Salisbury</SPAN></SPAN></u1:City></st1:City><SPAN style="FONT-FAMILY: Calibri\; COLOR: black">\, </SPAN><u1:State><st1:State><SPAN style="FONT-FAMILY: Calibri\; COLOR: black">MA</SPAN></u1:State></u1:place></FONT></st1:State></st1:place><SPAN style="FONT-FAMILY: Calibri\; COLOR: black"><FONT size=4>.</FONT></SPAN></P><P><FONT size=4><SPAN style="FONT-FAMILY: Calibri\; COLOR: black">Owner Michael Steer invites you to&nbsp\;join him and guests to enjoy pizza from Upper Crust and samplings&nbsp\;from Chef Steve Deffley owner of Got Thyme personal chef service.&nbsp\;&nbsp\; <BR><BR>Location:<BR></SPAN><st1:address><st1:Street><SPAN style="FONT-FAMILY: Calibri\; COLOR: black"><u1:address><u1:Street>141 Bridge Road\, #103</SPAN></u1:Street></st1:Street><SPAN style="FONT-FAMILY: Calibri\; COLOR: black">&nbsp\; </SPAN><u1:City><st1:City><SPAN style="FONT-FAMILY: Calibri\; COLOR: black">Salisbury</SPAN></u1:City></st1:City><SPAN style="FONT-FAMILY: Calibri\; COLOR: black">\, </SPAN><u1:State><st1:State><SPAN style="FONT-FAMILY: Calibri\; COLOR: black">MA</SPAN></u1:State></u1:address></st1:State></st1:address></FONT><FONT size=4><SPAN style="FONT-FAMILY: Calibri\; COLOR: black"> <BR>RSVP online or call&nbsp\; (978) 462-6680 x13</SPAN><SPAN style="FONT-FAMILY: Calibri\; COLOR: red"><o:p></o:p></SPAN></FONT></P><P></FONT></FONT></P></FONT><A href="http://www.josephswinterstcafe.com"></A>
LOCATION:Seaport Signworks
UID:e.1189.1608
SEQUENCE:3
DTSTAMP:20260420T194006Z
URL:https://business.newburyportchamber.org/events/details/ribbon-cutting-seaport-signworks-09-16-2010-1608
END:VEVENT

END:VCALENDAR
