BEGIN:VCALENDAR
VERSION:2.0
PRODID:-//ChamberMaster//Event Calendar 2.0//EN
METHOD:PUBLISH
X-PUBLISHED-TTL:P3D
REFRESH-INTERVAL:P3D
CALSCALE:GREGORIAN
BEGIN:VEVENT
DTSTART:20100513T040000Z
DTEND:20100513T040000Z
X-MICROSOFT-CDO-ALLDAYEVENT:FALSE
SUMMARY:Ribbon Cutting - Salisbury Woods
DESCRIPTION:Salisbury WoodsRibbon Cutting Ceremony\nThursday\, May 13\, 2010\n4:00pmYou're Invited!\nJoin us for a special Ribbon Cutting ceremony to celebrate the Grand Opening of Salisbury Woods Condominiums in Salisbury\, MA.  http://salisburywoods.com/\n\nIntroductions and welcoming remarks at 4pm\, followed by a special ribbon cutting with Ann Ormand\, President of the Newburyport Chamber of Commerce\, and Maura McLaughlin of McLaughlin Real Estate Group.  Afterwards\, a tour of the Model will be offered and light refreshments will be served.\nFree and open to the public and all members.\n                                                           \nLocation:\nPartridge Lane\, Salisbury\, MA (1st right after Angelina's Sub Shop on Bridge Road).\nRSVP online or call  (978) 462-6680 x13
X-ALT-DESC;FMTTYPE=text/html:<P><FONT color=#ff0000><FONT color=#000000><FONT color=#ff0000>Salisbury Woods</FONT></FONT></P><P><FONT color=#000000>Ribbon Cutting Ceremony<BR>Thursday\, May 13\, 2010<BR>4:00pm</FONT></P><FONT color=#000000><P><STRONG>You're Invited!</STRONG><BR>Join us for a special <STRONG><FONT color=#ff0000>Ribbon Cutting</FONT></STRONG> ceremony to celebrate the&nbsp\;Grand Opening of Salisbury Woods Condominiums in Salisbury\, MA.&nbsp\; <A href="http://salisburywoods.com/">http://salisburywoods.com/</A><BR><BR>Introductions and welcoming remarks at 4pm\, followed by a special ribbon cutting with Ann Ormand\,&nbsp\;President of the&nbsp\;Newburyport&nbsp\;Chamber of Commerce\, and Maura McLaughlin of McLaughlin Real Estate Group.&nbsp\; Afterwards\, a tour of the Model will be offered&nbsp\;and light refreshments will be served.</P><P><BR>Free and open to the public and all members.<BR></P><P></FONT><FONT color=#000000><SPAN style="mso-spacerun: yes">&nbsp\;&nbsp\;&nbsp\;&nbsp\;&nbsp\;&nbsp\;&nbsp\;&nbsp\;</SPAN><SPAN style="mso-spacerun: yes">&nbsp\;&nbsp\;&nbsp\;&nbsp\;&nbsp\;&nbsp\;&nbsp\;&nbsp\;&nbsp\;&nbsp\;&nbsp\;&nbsp\;&nbsp\;&nbsp\;&nbsp\;&nbsp\;&nbsp\;&nbsp\;&nbsp\;&nbsp\;&nbsp\;&nbsp\;&nbsp\;&nbsp\;&nbsp\;&nbsp\;&nbsp\;&nbsp\;&nbsp\;&nbsp\;&nbsp\;&nbsp\;&nbsp\;&nbsp\;&nbsp\;&nbsp\;&nbsp\;&nbsp\;&nbsp\;&nbsp\;&nbsp\;&nbsp\;&nbsp\;&nbsp\;&nbsp\;&nbsp\;&nbsp\;&nbsp\;&nbsp\;&nbsp\;&nbsp\;</SPAN><BR></FONT><FONT color=#000000>Location:<BR></FONT><FONT color=#000000>Partridge Lane\, Salisbury\, MA (1st right after Angelina's Sub Shop on Bridge Road).<BR></FONT><FONT color=#000000>RSVP online or call&nbsp\; (978) 462-6680 x13</FONT></P></FONT><A href="http://www.josephswinterstcafe.com"></A>
LOCATION:Seaport Signworks
UID:e.1189.1550
SEQUENCE:3
DTSTAMP:20260421T051707Z
URL:https://business.newburyportchamber.org/events/details/ribbon-cutting-salisbury-woods-05-13-2010-1550
END:VEVENT

END:VCALENDAR
